BEGIN:VCALENDAR
VERSION:2.0
PRODID:-//National Camera Exchange - ECPv4.6.11.1//NONSGML v1.0//EN
CALSCALE:GREGORIAN
METHOD:PUBLISH
X-WR-CALNAME:National Camera Exchange
X-ORIGINAL-URL:https://www.natcam.com
X-WR-CALDESC:Events for National Camera Exchange
BEGIN:VEVENT
DTSTART;TZID=America/Chicago:20260417T110000
DTEND;TZID=America/Chicago:20260417T160000
DTSTAMP:20260423T181105
CREATED:20260316T203247Z
LAST-MODIFIED:20260401T175308Z
UID:596407-1776423600-1776441600@www.natcam.com
SUMMARY:OM SYSTEM Product Demo // April 17\, 2026
DESCRIPTION:OM SYSTEM Product Demo\nApril 17\, 2026\n  \nOM SYSTEM Product Demo\nFriday\, April 17 | 11 AM–4 PM | National Camera \nJoin OM SYSTEM Rep Joel Quiggin for an in-person product demo at National Camera on Friday\, April 17\, from 11 AM–4 PM. Explore the full lineup of cameras and lenses and see how they perform with your own photography style. Get hands-on with the newest OM SYSTEM gear\, including the OM-1 MkII and a selection of macro lenses: 30mm\, 60mm\, and 90mm. Bring your questions and current gear to compare\, test\, and learn. It’s the perfect opportunity to explore upgrades\, get expert advice\, and find the right OM SYSTEM gear for your next step. \nNational Camera and OM SYSTEM are proud to sponsor the Minnesota Zoo Foundation Wildlife Conservation Benefit on Thursday\, April 16\, showcasing the latest gear for wildlife photography\, birding\, and observation. \n• • • • • \nMN Zoo Foundation // Wildlife Conservation Benefit: Technology Takes Flight \nThursday\, April 16 | 6–9 PM | Radisson Blu Mall of America \nWill New Tech Support the Survival of Threatened Bird Species? Join Dr. Miyoko Chu and experts from the Minnesota Zoo as we explore how groundbreaking technology is supporting bird populations. \nLearn more and purchase tickets here \n• • • • • \nCheck out our full calendar here \nIf you have any questions about this or any other event\, please email us at classes@natcam.com. We will do our best to get back to you within 1-2 business days. \n
URL:https://www.natcam.com/event/om-system-product-demo-april-17-2026/
LOCATION:9300 Olson Memorial Highway\, Golden Valley\, MN\, 55427\, United States
GEO:44.9842769;-93.3982752
X-APPLE-STRUCTURED-LOCATION;VALUE=URI;X-ADDRESS=9300 Olson Memorial Highway Golden Valley MN 55427 United States;X-APPLE-RADIUS=500;X-TITLE=9300 Olson Memorial Highway:geo:-93.3982752,44.9842769
CATEGORIES:Special Events
ATTACH;FMTTYPE=image/jpeg:https://www.natcam.com/wp-content/uploads/2026/04/oms-demo-04-17_event-banner.jpg
END:VEVENT
END:VCALENDAR