BEGIN:VCALENDAR
VERSION:2.0
PRODID:-//National Camera Exchange - ECPv4.6.11.1//NONSGML v1.0//EN
CALSCALE:GREGORIAN
METHOD:PUBLISH
X-WR-CALNAME:National Camera Exchange
X-ORIGINAL-URL:https://www.natcam.com
X-WR-CALDESC:Events for National Camera Exchange
BEGIN:VEVENT
DTSTART;TZID=America/Chicago:20220322T180000
DTEND;TZID=America/Chicago:20220322T190000
DTSTAMP:20260424T185512
CREATED:20220210T173643Z
LAST-MODIFIED:20220215T181213Z
UID:345596-1647972000-1647975600@www.natcam.com
SUMMARY:Close-Up Photography with FujiFilm: Online Seminar
DESCRIPTION:Close-Up Photography with FujiFilm\nOnline Seminar\n  \nJoin us for a base-level conversation about close-up photography as Matt Weintritt\, Product Technical Specialist for Fujifilm\, leads us through some helpful techniques you can use to achieve more detailed images of your subjects. Matt will discuss various tools and methods available for close-up picture-taking and will get you ready to look at your surroundings from a new perspective. \nMatthew Weintritt is a FUJIFILM Product Technical Specialist and a passionate member of the photography community. With more than 15 years of multi-disciplinary experience\, Matt has traveled throughout North America sharing his knowledge and technical expertise in classrooms and through hands-on workshops. Matt is eager to help his fellow image makers in the art of storytelling\, and possess an innate ability to work with any photographer – regardless of their chosen discipline or experience level. \n  \nRegister Here > Close-Up Photography with Fujifilm \n  \nParticipants will need to register for this webinar using the link provided above before the event. FujiFilm will be using the Zoom platform for this seminar\, and you can join from your browser without having to download any new software. We recommend joining up to 10 minutes early\, to ensure that you have time to troubleshoot your connection if necessary. You will be placed in a waiting room until the host is ready to begin the event. For the best experience\, we recommend using Chrome or Firefox to view and participate in this class.  \n
URL:https://www.natcam.com/event/close-photography-fujifilm/
CATEGORIES:Specialty Classes
ATTACH;FMTTYPE=image/jpeg:https://www.natcam.com/wp-content/uploads/2022/02/fuji-close-up-event-banner.jpg
END:VEVENT
END:VCALENDAR