BEGIN:VCALENDAR
VERSION:2.0
PRODID:-//National Camera Exchange - ECPv4.6.11.1//NONSGML v1.0//EN
CALSCALE:GREGORIAN
METHOD:PUBLISH
X-WR-CALNAME:National Camera Exchange
X-ORIGINAL-URL:https://www.natcam.com
X-WR-CALDESC:Events for National Camera Exchange
BEGIN:VEVENT
DTSTART;TZID=America/Chicago:20220421T180000
DTEND;TZID=America/Chicago:20220421T190000
DTSTAMP:20260420T150305
CREATED:20220120T211722Z
LAST-MODIFIED:20220120T211940Z
UID:345610-1650564000-1650567600@www.natcam.com
SUMMARY:Wildlife Basics with Sony: Online Seminar
DESCRIPTION:Wildlife Basics with Sony\nOnline Seminar\n  \nHave you ever felt like you missed out on that once in a lifetime wildlife photo? Join Sony Digital Imaging Specialist Ashley Ondricek as he prepares you for the next big excursion. In this class we will cover camera settings and provide tips and tricks to to enhance your wildlife photos; boosting your knowledge and confidence\, so you don’t miss that next amazing shot! Bring your questions\, we will things up with a quick Q&A session following the presentation. \n  \nWebEx link to join > Wildlife Basics with Sony \nMeeting number: 2555 935 9462 \nPassword: Sony \n  \nWe will be using the Webex platform for this seminar\, and you can join from your browser without having to download any new software. We recommend joining up to 10 minutes early\, to ensure that you have time to troubleshoot your connection if necessary. You will be placed in a waiting room until the host is ready to begin the event. For the best experience\, we recommend using Chrome or Firefox to view and participate in this class.  \n  \n
URL:https://www.natcam.com/event/wildlife-basics-sony-online-seminar/
CATEGORIES:Specialty Classes
ATTACH;FMTTYPE=image/jpeg:https://www.natcam.com/wp-content/uploads/2022/01/sony-wildlife-basics-event-banner.jpg
END:VEVENT
END:VCALENDAR