BEGIN:VCALENDAR
VERSION:2.0
PRODID:-//National Camera Exchange - ECPv4.6.11.1//NONSGML v1.0//EN
CALSCALE:GREGORIAN
METHOD:PUBLISH
X-WR-CALNAME:National Camera Exchange
X-ORIGINAL-URL:https://www.natcam.com
X-WR-CALDESC:Events for National Camera Exchange
BEGIN:VEVENT
DTSTART;TZID=America/Chicago:20220428T180000
DTEND;TZID=America/Chicago:20220428T190000
DTSTAMP:20260420T031200
CREATED:20220214T214958Z
LAST-MODIFIED:20220215T181042Z
UID:349652-1651168800-1651172400@www.natcam.com
SUMMARY:Let’s Get Outside: The Tamron Guide to Bird Photography - Online Seminar
DESCRIPTION:Let’s Get Outside: The Tamron Guide to Bird Photography\nOnline Seminar\n  \nJoin Pro Photographer and Tamron Technical Representative Jeff Allen for a fun seminar that will prepare you for your next birding adventure. From tips to techniques\, Jeff covers everything from making great lens choices to the basics of composition. Learn how you can use existing light to your advantage even in challenging situations; and how selecting the right shutter speeds\, apertures\, ISO and other camera settings will save you time editing photos during post processing. Jeff will also include suggestions on some of his favorite accessories to consider bringing with you on your next outing. \n  \nWhether you are photographing birds in flight or birds at rest\, these tips and techniques aim to give you more confidence to improve your bird photography. With Spring Migration upon us\, you won’t want to miss this seminar! Join us for a Q&A session after the presentation with Jeff\, and Tamron Rep\, Mike Pazandak. \n  \nPhotography has been Jeff’s passion for over 40 years. As a Pro Photographer\, he has worked in a variety of fields; including wedding\, portrait\, nature\, news and sports photography. Jeff facilitates workshops and seminars throughout the US and Canada\, teaching thousands of photographers at all skill levels how to create better images.\n \n  \nLink to join > Let’s Get Outside: The Tamron Guide to Bird Photography \nMeeting number: 2557 582 1349 \nPassword: Tamron\n \n  \nWe will be using the Webex platform for this seminar\, and you can join from your browser without having to download any new software. We recommend joining up to 10 minutes early\, to ensure that you have time to troubleshoot your connection if necessary. You will be placed in a waiting room until the host is ready to begin the event. For the best experience\, we recommend using Chrome or Firefox to view and participate in this class.  \n
URL:https://www.natcam.com/event/lets-get-outside-tamron-guide-bird-photography/
CATEGORIES:Specialty Classes
ATTACH;FMTTYPE=image/jpeg:https://www.natcam.com/wp-content/uploads/2022/02/tamron-bird-photography-event-banner.jpg
END:VEVENT
END:VCALENDAR