BEGIN:VCALENDAR
VERSION:2.0
PRODID:-//National Camera Exchange - ECPv4.6.11.1//NONSGML v1.0//EN
CALSCALE:GREGORIAN
METHOD:PUBLISH
X-WR-CALNAME:National Camera Exchange
X-ORIGINAL-URL:https://www.natcam.com
X-WR-CALDESC:Events for National Camera Exchange
BEGIN:VEVENT
DTSTART;TZID=America/Chicago:20230805T100000
DTEND;TZID=America/Chicago:20230805T113000
DTSTAMP:20260420T051149
CREATED:20230712T023651Z
LAST-MODIFIED:20230724T211041Z
UID:437028-1691229600-1691235000@www.natcam.com
SUMMARY:Pet Photography with Sony // Live Workshop • August 5\, 2023
DESCRIPTION:Pet Photography with Sony // Live Workshop\nAugust 5\, 2023\n  \nAre you looking to add that spark to your favorite furry friend? Join Sony Imaging Specialist Ashley Ondricek as he covers camera settings\, helpful tips and some creative tricks to make your next pet photography session more rewarding. Bring your camera and follow along for this in-person class! Don’t currently have a Sony camera? No problem! Many of his tips will help you no matter which camera you’re using. After the presentation\, Ashley will perform a Live Demo so you can see what you just learned put into action! Following the demo\, you will have an opportunity to photograph the pets during the hands-on portion of the workshop.  \nEVENT SCHEDULE\n• 9:45am // Event Check-in\n• 10am // Pet Photography Tips n Tricks\n• 10:30-11:30am // Live Demo + Pet Photography \nPlus! Stop by the Sony Demo to see the latest gear on display.\n  \n• • • • • • • • • • • • • • • • •\nREGISTRATION: $29\nRegistration for this workshop closes on Friday\, August 4th. Tickets are limited\, so be sure to reserve your spot today! We will not be sending an email for this in-person event\, so please be sure to read through the description entirely for full details. If you have any questions about your registration before the event\, please email us at classes@natcam.com \nLOCATION ADDRESS:\nNational Camera Exchange\n9300 Olson Memorial Highway\, Golden Valley\, MN 55427 \nCANCELLATION & REFUND POLICY:\nIf you need to cancel your registration for any reason\, please contact us right away. A refund may not be issued for any cancellations made after the registration deadline has closed. All other cancellations will receive a full refund if the request has been made prior to the deadline above. \n• • • • • • • • • • • • • • • • •\n  \n2023 Education Celebration Week\nThis in-person event is part of our Education Celebration Week (ECW)\, featuring a variety of learning opportunities that will help you polish your photo skills throughout the week of July 31st-August 6th. Join us virtually for webinars with the experts during the first part of the week\, and stop by our Golden Valley location over the weekend for fun educational experiences including in-person classes\, vendor demos\, giveaways\, and savings on select products. All class attendees will receive a special in-store savings voucher for attending the in-person classes and workshops! \nCheck out our full calendar here \n  \n\nPlease note: Vendor demos and in-person classes will be held outdoors at our store in Golden Valley. We will have a large tent designated as an outdoor classroom located behind the building for classes and workshops\, with the vendor demo booths located in the front of the building on Friday and Saturday.\n\n  \nIf you have any questions about this or any other event\, please email us at classes@natcam.com. We will do our best to get back to you within 1-2 business days. \n  \n
URL:https://www.natcam.com/event/pet-photography-sony-live-workshop-%e2%80%a2-august-5-2023/
LOCATION:9300 Olson Memorial Highway\, Golden Valley\, MN\, 55427\, United States
GEO:44.9842769;-93.3982752
X-APPLE-STRUCTURED-LOCATION;VALUE=URI;X-ADDRESS=9300 Olson Memorial Highway Golden Valley MN 55427 United States;X-APPLE-RADIUS=500;X-TITLE=9300 Olson Memorial Highway:geo:-93.3982752,44.9842769
CATEGORIES:Specialty Classes
END:VEVENT
BEGIN:VEVENT
DTSTART;TZID=America/Chicago:20230805T120000
DTEND;TZID=America/Chicago:20230805T133000
DTSTAMP:20260420T051149
CREATED:20230712T062314Z
LAST-MODIFIED:20230727T163730Z
UID:438826-1691236800-1691242200@www.natcam.com
SUMMARY:Introduction to Flash w/ NCE // Live Workshop • August 5\, 2023
DESCRIPTION:Introduction to Flash with National Camera Exchange\nLive Workshop // August 5\, 2023\nSponsored by Godox\n  \nJoin Jason Brown from National Camera as he teaches you how to take the fear out of using your flash in this live workshop. Learn how to take control of your flash and understand how to differentiate the lighting on your subject from that on your background. Jason will demonstrate how to use the flash on and off the camera and will explain the best ways to modify your light to avoid harsh shadows. After the presentation\, you will try out some of these tips during the hands-on portion of the workshop. Jason will work with you to help you fully understand the concepts covered during the presentation and practice what you’ve learned\, so remember to bring your camera and your flash! We will also have a limited amount of Godox lighting gear available for you to use and share during the event. \n• • • • • • • • • • • • • • • • • \nREGISTRATION: $29\nRegistration for this event closes on Friday\, August 4th at 10pm. Tickets are limited\, so be sure to reserve your spot today! We will not be sending an email for this in-person event\, so please be sure to read through the description entirely for full details. If you have any questions about your registration before the event\, please email us at classes@natcam.com \nLOCATION ADDRESS:\nNational Camera Exchange\n9300 Olson Memorial Highway\, Golden Valley\, MN 55427 \nCANCELLATION & REFUND POLICY:\nIf you need to cancel your registration for any reason\, please contact us right away. A refund may not be issued for any cancellations made after the registration deadline has closed. All other cancellations will receive a full refund if the request has been made prior to the deadline above. \n• • • • • • • • • • • • • • • • • \n2023 Education Celebration Week\nThis in-person event is part of our Education Celebration Week (ECW)\, featuring a variety of learning opportunities that will help you polish your photo skills throughout the week of July 31st-August 6th. Join us virtually for webinars with the experts during the first part of the week\, and stop by our Golden Valley location over the weekend for fun educational experiences including in-person classes\, vendor demos\, giveaways\, and savings on select products. All class attendees will receive a special in-store savings voucher for attending the in-person classes and workshops! \nCheck out our full calendar here \n  \n\nPlease note: Vendor demos and in-person classes will be held outdoors at our store in Golden Valley. We will have a large tent designated as an outdoor classroom located behind the building for classes and workshops\, with the vendor demo booths located in the front of the building on Friday and Saturday.\n\n  \nIf you have any questions about this or any other event\, please email us at classes@natcam.com. We will do our best to get back to you within 1-2 business days. \n \n
URL:https://www.natcam.com/event/introduction-flash-w-nce-live-workshop-%e2%80%a2-august-5-2023/
LOCATION:9300 Olson Memorial Highway\, Golden Valley\, MN\, 55427\, United States
GEO:44.9842769;-93.3982752
X-APPLE-STRUCTURED-LOCATION;VALUE=URI;X-ADDRESS=9300 Olson Memorial Highway Golden Valley MN 55427 United States;X-APPLE-RADIUS=500;X-TITLE=9300 Olson Memorial Highway:geo:-93.3982752,44.9842769
CATEGORIES:Special Events,Specialty Classes
END:VEVENT
BEGIN:VEVENT
DTSTART;TZID=America/Chicago:20230805T140000
DTEND;TZID=America/Chicago:20230805T153000
DTSTAMP:20260420T051149
CREATED:20230712T061443Z
LAST-MODIFIED:20230727T172546Z
UID:438823-1691244000-1691249400@www.natcam.com
SUMMARY:Macro Photography w/ NCE // Live Workshop • August 5\, 2023
DESCRIPTION:Macro Photography with National Camera Exchange\nLive Workshop // August 5\, 2023\nSponsored by NiSi\n  \nWant to take your close-up photography to the next level? Join expert staff from National Camera for this live workshop\, as we take you through the technical and creative aspects of macro photography. From tools and techniques to lighting and background choices\, this class is designed to help you see things from a different perspective. Get inspired to slow down and observe the tiny world around you! \nBring your camera along to put what you’ve learned into practice—we will also have select cameras and macro lenses available during the hands-on portion of the workshop. Plus! Class attendees will receive a chance to enter a drawing to win a NiSi NM-180 Macro Focusing Rail (a $129 value) provided by NiSi. \n• • • • • • • • • • • • • • • • • \nREGISTRATION: $29\nRegistration for this event closes on Friday\, August 4th at 10pm. Tickets are limited\, so be sure to reserve your spot today! We will not be sending an email for this in-person event\, so please be sure to read through the description entirely for full details. If you have any questions about your registration before the event\, please email us at classes@natcam.com \nLOCATION ADDRESS:\nNational Camera Exchange\n9300 Olson Memorial Highway\, Golden Valley\, MN 55427 \nCANCELLATION & REFUND POLICY:\nIf you need to cancel your registration for any reason\, please contact us right away. A refund may not be issued for any cancellations made after the registration deadline has closed. All other cancellations will receive a full refund if the request has been made prior to the deadline above. \n• • • • • • • • • • • • • • • • • \n2023 Education Celebration Week\nThis in-person event is part of our Education Celebration Week (ECW)\, featuring a variety of learning opportunities that will help you polish your photo skills throughout the week of July 31st-August 6th. Join us virtually for webinars with the experts during the first part of the week\, and stop by our Golden Valley location over the weekend for fun educational experiences including in-person classes\, vendor demos\, giveaways\, and savings on select products. All class attendees will receive a special in-store savings voucher for attending the in-person classes and workshops! \nCheck out our full calendar here \n  \n\nPlease note: Vendor demos and in-person classes will be held outdoors at our store in Golden Valley. We will have a large tent designated as an outdoor classroom located behind the building for classes and workshops\, with the vendor demo booths located in the front of the building on Friday and Saturday.\n\n  \nIf you have any questions about this or any other event\, please email us at classes@natcam.com. We will do our best to get back to you within 1-2 business days. \n
URL:https://www.natcam.com/event/macro-photography-w-nce-live-workshop-%e2%80%a2-august-5-2023/
LOCATION:9300 Olson Memorial Highway\, Golden Valley\, MN\, 55427\, United States
GEO:44.9842769;-93.3982752
X-APPLE-STRUCTURED-LOCATION;VALUE=URI;X-ADDRESS=9300 Olson Memorial Highway Golden Valley MN 55427 United States;X-APPLE-RADIUS=500;X-TITLE=9300 Olson Memorial Highway:geo:-93.3982752,44.9842769
CATEGORIES:Special Events,Specialty Classes
ATTACH;FMTTYPE=image/jpeg:https://www.natcam.com/wp-content/uploads/2023/07/08.05-nce-macro-event-new.jpg
END:VEVENT
BEGIN:VEVENT
DTSTART;TZID=America/Chicago:20230805T160000
DTEND;TZID=America/Chicago:20230805T173000
DTSTAMP:20260420T051149
CREATED:20230712T054829Z
LAST-MODIFIED:20230724T205845Z
UID:438809-1691251200-1691256600@www.natcam.com
SUMMARY:Fundamentals of Focus Stacking w/ Fujifilm // Live Class • August 5\, 2023
DESCRIPTION:Fundamentals of Focus Stacking with Fujifilm\nLive Class // August 5\, 2023\n  \nJoin Fujifilm Technical Specialist & Landscape Photographer Christopher Gilbert for an in-person class at National Camera Exchange. In this class\, Christopher will elaborate on the process of Focus Stacking—you’ll learn whether you need to focus stack\, choosing the right lens\, recommending settings\, and finally we’ll dive into post production with Lightroom & Photoshop. This course is designed to be a starting point for attendees so that they have a stronger base knowledge of the process. Though this class is instructed by a Fujifilm Professional\, a Fujifilm camera is not required to attend this class.  \nPlus! Register here for a Fujifilm Customization & Controls Class with Christopher on Friday\, August 4th at 12pm. \nStop by the Fujifilm Demo on Friday\, August 4th and Saturday\, August 5th to see the newest Fuji gear on display! \n• • • • • • • • • • • • • • • • • \nREGISTRATION: $29\nRegistration for this event closes on Friday\, August 4th at 10pm. Tickets are limited\, so be sure to reserve your spot today! We will not be sending an email for this in-person event\, so please be sure to read through the description entirely for full details. If you have any questions about your registration before the event\, please email us at classes@natcam.com \nLOCATION ADDRESS:\nNational Camera Exchange\n9300 Olson Memorial Highway\, Golden Valley\, MN 55427 \nCANCELLATION & REFUND POLICY:\nIf you need to cancel your registration for any reason\, please contact us right away. A refund may not be issued for any cancellations made after the registration deadline has closed. All other cancellations will receive a full refund if the request has been made prior to the deadline above. \n• • • • • • • • • • • • • • • • • \n2023 Education Celebration Week\nThis in-person event is part of our Education Celebration Week (ECW)\, featuring a variety of learning opportunities that will help you polish your photo skills throughout the week of July 31st-August 6th. Join us virtually for webinars with the experts during the first part of the week\, and stop by our Golden Valley location over the weekend for fun educational experiences including in-person classes\, vendor demos\, giveaways\, and savings on select products. All class attendees will receive a special in-store savings voucher for attending the in-person classes and workshops! \nCheck out our full calendar here \n  \n\nPlease note: Vendor demos and in-person classes will be held outdoors at our store in Golden Valley. We will have a large tent designated as an outdoor classroom located behind the building for classes and workshops\, with the vendor demo booths located in the front of the building on Friday and Saturday.\n\n  \nIf you have any questions about this or any other event\, please email us at classes@natcam.com. We will do our best to get back to you within 1-2 business days. \n  \n
URL:https://www.natcam.com/event/fundamentals-focus-stacking-w-fujifilm-live-class-%e2%80%a2-august-5-2023/
LOCATION:9300 Olson Memorial Highway\, Golden Valley\, MN\, 55427\, United States
GEO:44.9842769;-93.3982752
X-APPLE-STRUCTURED-LOCATION;VALUE=URI;X-ADDRESS=9300 Olson Memorial Highway Golden Valley MN 55427 United States;X-APPLE-RADIUS=500;X-TITLE=9300 Olson Memorial Highway:geo:-93.3982752,44.9842769
CATEGORIES:Special Events,Specialty Classes
END:VEVENT
END:VCALENDAR