BEGIN:VCALENDAR
VERSION:2.0
PRODID:-//National Camera Exchange - ECPv4.6.11.1//NONSGML v1.0//EN
CALSCALE:GREGORIAN
METHOD:PUBLISH
X-WR-CALNAME:National Camera Exchange
X-ORIGINAL-URL:https://www.natcam.com
X-WR-CALDESC:Events for National Camera Exchange
BEGIN:VEVENT
DTSTART;TZID=America/Chicago:20230806T090000
DTEND;TZID=America/Chicago:20230806T103000
DTSTAMP:20260420T031200
CREATED:20230712T025053Z
LAST-MODIFIED:20230724T203114Z
UID:437042-1691312400-1691317800@www.natcam.com
SUMMARY:Street Photography at Saint Anthony Main w/ Leica // Photo Walk • August 6\, 2023
DESCRIPTION:Street Photography at Saint Anthony Main with Leica\nPhoto Walk // August 6\, 2023\n  \nJoin Leica product educators Matt Butzow and John Kreidler for a walk around St. Anthony Main on Sunday\, August 6th. St. Anthony Main is located right on the Mississippi River\, and is a little pocket of Northeast Minneapolis worth exploring for street photography and historical architecture. From its cobblestone road to historic theater\, cafes and views of downtown\, St. Anthony Main offers a variety of opportunities to enhance your street photography skills. \nWe’ll meet up near The Main Cinema (formerly St. Anthony Main Theatre) on SE Main St at 9am for orientation and a brief instruction period before heading out to capture images around the neighborhood. Our team of experts will offer guidance on camera settings and lens choices\, as well offer tips on how to create strong compositions through storytelling. \nA select amount of loaner gear will be provided by Leica\, featuring the SL2-S + 24-70mm f/2.8 camera kits—if you intend to borrow gear during this event\, please be sure to arrive during the check-in window\, as loaner gear is limited and will be available on a first-come\, first-served basis. Please note: You must have a valid driver’s license to check out Leica gear. After our initial meetup\, you’ll be free to explore the area on your own or stick around the experts for more guided\, personalized advice. Whatever you need\, we’re here to help!  \nJoin us for an in-store demo with Leica following the photo walk at our store in Golden Valley. Matt and John will be available to answer questions and will have additional gear on display from 11am-3pm. \nEVENT SCHEDULE\n• 9-9:15am // Check-in + Leica Loaner Gear\n• 9:15-10:15am // Photo Walk\n• 10:15-10:30am // Wrap-up + Return Gear \nBE PREPARED!\nAs this event will be held outdoors rain or shine\, we recommend that you dress comfortably and accordingly for the weather. Pack your camera\, lenses\, and charge up your batteries before the event! We also recommend bringing additional batteries and memory cards just in case\, and a blank memory card if you intend to check-out a Leica camera for this event. \n••••••••••••••••••••• \nREGISTRATION: $29\nRegistration for this event closes on Saturday\, August 5th at 10pm. Tickets are limited\, so be sure to reserve your spot today! We will not be sending an email for the in-person events\, so please be sure to read through the description above for full details. If you have any questions about your registration before the event\, please email us at classes@natcam.com \nLOCATION ADDRESS:\nThe Main Cinema\n115 SE Main St\, Minneapolis\, MN 55414 \nCANCELLATION & REFUND POLICY:\nIf you need to cancel your registration for any reason\, please contact us right away. A refund may not be issued for any cancellations made after the registration deadline has closed. All other cancellations will receive a full refund if the request has been made prior to the deadline above. \n••••••••••••••••••••• \n2023 Education Celebration Week\nThis in-person workshop is part of our Education Celebration Week\, featuring a variety of learning opportunities that will help you polish your photo skills throughout the week of July 31st-August 6th. Join us virtually for webinars with the experts during the first part of the week\, and stop by our Golden Valley location over the weekend for fun educational experiences including in-person classes\, vendor demos\, giveaways\, and savings on select products. All class attendees will receive a special in-store savings voucher for attending the in-person classes and workshops! \nCheck out our full calendar here \n  \n\nPlease note: We will meet up as a group on location at St. Anthony Main\, we encouraged photo walk attendees to join us back at our store in Golden Valley following the photo walk. Vendor demo booths will be located inside the store on Sunday from 11am-4pm.\n\nIf you have any questions about this or any other event\, please email us at classes@natcam.com. We will do our best to get back to you within 1-2 business days. \n  \n
URL:https://www.natcam.com/event/street-photography-saint-anthony-main-w-leica-photo-walk-%e2%80%a2-august-6-2023/
CATEGORIES:Special Events,Specialty Classes
END:VEVENT
BEGIN:VEVENT
DTSTART;TZID=America/Chicago:20230806T130000
DTEND;TZID=America/Chicago:20230806T150000
DTSTAMP:20260420T031200
CREATED:20230712T230635Z
LAST-MODIFIED:20230727T163653Z
UID:438830-1691326800-1691334000@www.natcam.com
SUMMARY:Natural Light Portraits w/ NCE // Live Workshop • August 6\, 2023
DESCRIPTION:Natural Light Portraits with National Camera Exchange\nLive Workshop // August 6\, 2023\nSponsored by Sony\n  \nJoin us on Sunday\, August 6th for a fun and interactive Natural Light Portrait Workshop with NCE professional portrait photographers Becky and Taylor. This workshop is great for beginners and intermediate photographers who want to take their portrait photography to the next level. \nWe will begin with an overview of the foundational aspects of exposure settings\, white balance\, depth of field and lens focal length and how they work together to create a dynamic image. Additionally\, understanding the impact of lighting is crucial for creating successful portraits. We will talk about the quality of light\, light modifiers and the best time of day to plan your portrait session. After the presentation\, Becky and Taylor will take things up a notch\, giving you a hands-on demonstration of posing techniques. Plus\, they’ll dish out some extra tips on how to effectively communicate with your subjects\, helping you capture the exact shots you’re aiming for.  \nFinally\, we will have models on site for the last segment of the workshop to put what you have learned into practice\, with Becky and Taylor to assist you along the way. Sony will also be providing a selection of loaner cameras and lenses for workshop participants to use during the event\, if you want to try out any new gear.  \nYou will leave this workshop with more confidence and inspiration for your next portrait session. Plus! You will walk away with some great images for your portfolio. \n• • • • • • • • • • • • • • • • • \nREGISTRATION: $29\nRegistration for this event closes on Saturday\, August 5th at 10pm. Tickets are limited\, so be sure to reserve your spot today! We will not be sending an email for this in-person event\, so please be sure to read through the description entirely for full details. If you have any questions about your registration before the event\, please email us at classes@natcam.com \nLOCATION ADDRESS:\nNational Camera Exchange\n9300 Olson Memorial Highway\, Golden Valley\, MN 55427 \nCANCELLATION & REFUND POLICY:\nIf you need to cancel your registration for any reason\, please contact us right away. A refund may not be issued for any cancellations made after the registration deadline has closed. All other cancellations will receive a full refund if the request has been made prior to the deadline above. \n• • • • • • • • • • • • • • • • • \n2023 Education Celebration Week\nThis in-person event is part of our Education Celebration Week (ECW)\, featuring a variety of learning opportunities that will help you polish your photo skills throughout the week of July 31st-August 6th. Join us virtually for webinars with the experts during the first part of the week\, and stop by our Golden Valley location over the weekend for fun educational experiences including in-person classes\, vendor demos\, giveaways\, and savings on select products. All class attendees will receive a special in-store savings voucher for attending the in-person classes and workshops! \nCheck out our full calendar here \n  \n\nPlease note: All of our in-person classes will be held outdoors at our store in Golden Valley. We will have a large tent designated as an outdoor classroom located behind the building for classes and workshops. Vendor demo booths will be located inside the store on Sunday.\n\n  \nIf you have any questions about this or any other event\, please email us at classes@natcam.com. We will do our best to get back to you within 1-2 business days. \n  \n
URL:https://www.natcam.com/event/natural-light-portraits-w-nce-live-workshop-%e2%80%a2-august-6-2023/
LOCATION:9300 Olson Memorial Highway\, Golden Valley\, MN\, 55427\, United States
GEO:44.9842769;-93.3982752
X-APPLE-STRUCTURED-LOCATION;VALUE=URI;X-ADDRESS=9300 Olson Memorial Highway Golden Valley MN 55427 United States;X-APPLE-RADIUS=500;X-TITLE=9300 Olson Memorial Highway:geo:-93.3982752,44.9842769
CATEGORIES:Special Events,Specialty Classes
END:VEVENT
END:VCALENDAR