BEGIN:VCALENDAR
VERSION:2.0
PRODID:-//National Camera Exchange - ECPv4.6.11.1//NONSGML v1.0//EN
CALSCALE:GREGORIAN
METHOD:PUBLISH
X-WR-CALNAME:National Camera Exchange
X-ORIGINAL-URL:https://www.natcam.com
X-WR-CALDESC:Events for National Camera Exchange
BEGIN:VEVENT
DTSTART;TZID=America/Chicago:20181025T180000
DTEND;TZID=America/Chicago:20181025T200000
DTSTAMP:20260421T144704
CREATED:20160616T202442Z
LAST-MODIFIED:20180928T204930Z
UID:162968-1540490400-1540497600@www.natcam.com
SUMMARY:Adobe Lightroom: Organizing @ Burnsville
DESCRIPTION:In this introductory seminar\, part one of two\, we explore the Library Module and process of importing and exporting images within the software. We recommend taking this class before enrolling in Adobe Lightroom: Developing.\nTopics include: \nImporting Images\nKey Wording Images\nRating and Ranking Images\nBuilding Collections and Smart Collections\nExporting Images from the Software \nPlease note\, the Lightroom seminars covers Lightroom CC Classic and previous versions of Lightroom. \n
URL:https://www.natcam.com/event/adobe-lightroom-organizing-roseville-2-2-2-2-2-2-2-2/
CATEGORIES:Digital Editing Classes
ATTACH;FMTTYPE=image/png:https://www.natcam.com/wp-content/uploads/2016/06/Lightroom-Organizing.png
ORGANIZER;CN="Sarah%20Weiss":MAILTO:sarahw@natcam.com
END:VEVENT
END:VCALENDAR