BEGIN:VCALENDAR
VERSION:2.0
PRODID:-//National Camera Exchange - ECPv4.6.11.1//NONSGML v1.0//EN
CALSCALE:GREGORIAN
METHOD:PUBLISH
X-WR-CALNAME:National Camera Exchange
X-ORIGINAL-URL:https://www.natcam.com
X-WR-CALDESC:Events for National Camera Exchange
BEGIN:VEVENT
DTSTART;TZID=America/Chicago:20200917T180000
DTEND;TZID=America/Chicago:20200917T193000
DTSTAMP:20260419T132259
CREATED:20200911T154119Z
LAST-MODIFIED:20200911T154119Z
UID:270646-1600365600-1600371000@www.natcam.com
SUMMARY:Approaching Landscapes with Fujifilm September 17th
DESCRIPTION:Approaching Landscapes with Fujifilm – Webinar\nIn this intermediate class\, Fujifilm Product Technical Specialist Christopher Gilbert will expand upon the process of adding visual depth to your landscape photography\, whether than involves showing motion\, adding foreground\, or using natural means to draw attention to your focal point\, you’ll be sure to walk away with a tip that’ll help you create a more dimensional image. A basic understanding of the exposure triangle is recommended\, but not required\, as there’ll be information for every skill level. \nAbout Christopher:\nChristopher Gilbert is an educator in Visual Arts–specifically photography. He currently oversees various parts of the country as a FUJIFILM Product Technical Specialist\, empowering image-makers with technical knowledge to improve their understanding of crafting images. With over 15 years in the industry\, he has seen both sides of the counter in terms of sales and instruction\, and uses his expertise to create an open environment where people feel heard and able to produce beautiful images. \nZoom Link: https://bit.ly/3ifLils\nMeeting ID: 983 2766 2033\nPasscode: NatCam2020 \n  \n
URL:https://www.natcam.com/event/approaching-landscapes-fujifilm-september-17th/
CATEGORIES:Special Events
ATTACH;FMTTYPE=image/jpeg:https://www.natcam.com/wp-content/uploads/2020/09/landscapes-fuji-hp-banner-02.jpg
END:VEVENT
END:VCALENDAR