BEGIN:VCALENDAR
VERSION:2.0
PRODID:-//National Camera Exchange - ECPv4.6.11.1//NONSGML v1.0//EN
CALSCALE:GREGORIAN
METHOD:PUBLISH
X-WR-CALNAME:National Camera Exchange
X-ORIGINAL-URL:https://www.natcam.com
X-WR-CALDESC:Events for National Camera Exchange
BEGIN:VEVENT
DTSTART;TZID=America/Chicago:20190809T170000
DTEND;TZID=America/Chicago:20190809T180000
DTSTAMP:20260420T010015
CREATED:20190801T143119Z
LAST-MODIFIED:20190801T143119Z
UID:218074-1565370000-1565373600@www.natcam.com
SUMMARY:Audio Techniques with RØDE Microphones
DESCRIPTION:Audio Techniques \nTaught by RØDE Microphone’s own Sean Herrera\nAudio is the most challenging aspect in the film industry. What microphone should I use when I ______. Don’t worry\, Sean Herrera will be on hand to discuss all aspects from dB\, Signal to noise ratio\, Gain\, etc. We will briefly touch on terms and why they are needed. More importantly\, this class will give proper techniques\, tips and tell you what is the best microphone for the scenario you catch yourself in. This will be a hands on class. Bring your questions\, comments and concerns over so Sean can help you. Seats are limited. \n
URL:https://www.natcam.com/event/audio-techniques-rode-microphones/
LOCATION:9300 Olson Memorial Highway\, Golden Valley\, MN\, 55427\, United States
GEO:44.9842769;-93.3982752
X-APPLE-STRUCTURED-LOCATION;VALUE=URI;X-ADDRESS=9300 Olson Memorial Highway Golden Valley MN 55427 United States;X-APPLE-RADIUS=500;X-TITLE=9300 Olson Memorial Highway:geo:-93.3982752,44.9842769
CATEGORIES:Special Events,Specialty Classes
ATTACH;FMTTYPE=image/jpeg:https://www.natcam.com/wp-content/uploads/2019/08/audio-techniques-01.jpg
END:VEVENT
END:VCALENDAR