BEGIN:VCALENDAR
VERSION:2.0
PRODID:-//National Camera Exchange - ECPv4.6.11.1//NONSGML v1.0//EN
CALSCALE:GREGORIAN
METHOD:PUBLISH
X-WR-CALNAME:National Camera Exchange
X-ORIGINAL-URL:https://www.natcam.com
X-WR-CALDESC:Events for National Camera Exchange
BEGIN:VEVENT
DTSTART;TZID=America/Chicago:20170930T103000
DTEND;TZID=America/Chicago:20170930T123000
DTSTAMP:20260420T132846
CREATED:20170818T140913Z
LAST-MODIFIED:20170829T154145Z
UID:88958-1506767400-1506774600@www.natcam.com
SUMMARY:Birds in Flight w/ Carrol Henderson @ Roseville
DESCRIPTION:In this seminar\, Carrol will share his techniques for capturing the beauty and grace of flying birds ranging from Andean condors and bald eagles to terns\, egrets\, warblers\, shorebirds\, pelicans\, albatrosses\, and hummingbirds. \n
URL:https://www.natcam.com/event/bird-flight-w-carrol-henderson-roseville/
LOCATION:2401 Fairview Avenue N #10\, Roseville\, MN\, 55113\, United States
GEO:45.0136491;-93.1791898
X-APPLE-STRUCTURED-LOCATION;VALUE=URI;X-ADDRESS=2401 Fairview Avenue N #10 Roseville MN 55113 United States;X-APPLE-RADIUS=500;X-TITLE=2401 Fairview Avenue N #10:geo:-93.1791898,45.0136491
CATEGORIES:Specialty Classes
ATTACH;FMTTYPE=image/png:https://www.natcam.com/wp-content/uploads/2017/08/Birds_WEB_Header.png
END:VEVENT
END:VCALENDAR