BEGIN:VCALENDAR
VERSION:2.0
PRODID:-//National Camera Exchange - ECPv4.6.11.1//NONSGML v1.0//EN
CALSCALE:GREGORIAN
METHOD:PUBLISH
X-WR-CALNAME:National Camera Exchange
X-ORIGINAL-URL:https://www.natcam.com
X-WR-CALDESC:Events for National Camera Exchange
BEGIN:VEVENT
DTSTART;TZID=America/Chicago:20180722T090000
DTEND;TZID=America/Chicago:20180722T160000
DTSTAMP:20260422T164810
CREATED:20180705T195651Z
LAST-MODIFIED:20180712T163314Z
UID:149200-1532250000-1532275200@www.natcam.com
SUMMARY:Cameras and Cruisers w/ Tamron & Sony
DESCRIPTION:Cameras and Cruisers w/ Tamron & Sony\nCalling all car enthusiasts! Join Sony & Tamron at the 10\,000 Lakes Concours d’Elegance car show along Lake Minnetonka for a day surrounded by collector automobiles\, watercrafts & motorcycles. Get up close and personal with these prize-winning cars while our photo experts provide tips on perspective\, best lighting practices & top gear to use. Come when you can\, go as you please! Tamron & Sony will be providing the latest gear available to test throughout the event. Admission into the car show is included with your ticket to this exclusive event. \nLocated at Excelsior Commons\, along the shores of Lake Minnetonka \nFree parking and shuttle from Excelsior Elementary School and Minnetonka High School from 8:30 am – 4:30 pm \n
URL:https://www.natcam.com/event/cameras-cruisers-w-tamron-sony/
LOCATION:135 Lake St\,\, Excelsior\, MN\, 55331\, United States
GEO:44.9070934;-93.5676766
X-APPLE-STRUCTURED-LOCATION;VALUE=URI;X-ADDRESS=135 Lake St Excelsior MN 55331 United States;X-APPLE-RADIUS=500;X-TITLE=135 Lake St\,:geo:-93.5676766,44.9070934
CATEGORIES:Special Events,Specialty Classes
ATTACH;FMTTYPE=image/jpeg:https://www.natcam.com/wp-content/uploads/2018/07/Cameras-Cruisers-WebBanner.jpg
END:VEVENT
END:VCALENDAR