BEGIN:VCALENDAR
VERSION:2.0
PRODID:-//National Camera Exchange - ECPv4.6.11.1//NONSGML v1.0//EN
CALSCALE:GREGORIAN
METHOD:PUBLISH
X-WR-CALNAME:National Camera Exchange
X-ORIGINAL-URL:https://www.natcam.com
X-WR-CALDESC:Events for National Camera Exchange
BEGIN:VEVENT
DTSTART;TZID=America/Chicago:20201015T180000
DTEND;TZID=America/Chicago:20201015T190000
DTSTAMP:20260419T195047
CREATED:20201012T204630Z
LAST-MODIFIED:20201012T205121Z
UID:274599-1602784800-1602788400@www.natcam.com
SUMMARY:Canon Presents: Sports Photography  with John Stoilov - October 15
DESCRIPTION:Canon Presents: Sports Photography with John Stoilov Webinar\nLearn how to use your Canon camera to capture amazing action photography. We will cover Shutter Speeds\, Apertures\, Lenses\, Auto Focus and a few tips and tricks to help you capture the moment. From beginner to intermediate you’ll learn how to maximize your Canon PowerShot\, DSLR or Mirrorless camera. \nCanon Presents: Sports Photography with John Stoilov \nMeeting ID: 126 217 9395 \nPassword: Canon \n
URL:https://www.natcam.com/event/canon-presents-sports-photography-john-stoilov-october-15-2/
CATEGORIES:Special Events
ATTACH;FMTTYPE=image/jpeg:https://www.natcam.com/wp-content/uploads/2020/10/canon-sports-webinar-02.jpg
END:VEVENT
END:VCALENDAR