BEGIN:VCALENDAR
VERSION:2.0
PRODID:-//National Camera Exchange - ECPv4.6.11.1//NONSGML v1.0//EN
CALSCALE:GREGORIAN
METHOD:PUBLISH
X-WR-CALNAME:National Camera Exchange
X-ORIGINAL-URL:https://www.natcam.com
X-WR-CALDESC:Events for National Camera Exchange
BEGIN:VEVENT
DTSTART;TZID=America/Chicago:20230531T000000
DTEND;TZID=America/Chicago:20230531T000000
DTSTAMP:20260419T195015
CREATED:20201012T204106Z
LAST-MODIFIED:20230712T031124Z
UID:274593-1685491200-1685491200@www.natcam.com
SUMMARY:Canon Presents: Sports Photography  with John Stoilov October 15
DESCRIPTION:Canon Presents: Sports Photography with John Stoilov Webinar\nLearn how to use your Canon camera to capture amazing action photography. We will over Shutter Speeds\, Apertures\, Lenses\, Auto Focus and a few tips and tricks to help you capture the moment. From beginner to intermediate you’ll learn how to maximize your Canon PowerShot\, DSLR or Mirrorless camera. \nCanon Presents: Sports Photography with John Stoilov \nPassword: Canon \n
URL:https://www.natcam.com/event/canon-presents-sports-photography-john-stoilov-october-15/
CATEGORIES:Specialty Classes
END:VEVENT
END:VCALENDAR