BEGIN:VCALENDAR
VERSION:2.0
PRODID:-//National Camera Exchange - ECPv4.6.11.1//NONSGML v1.0//EN
CALSCALE:GREGORIAN
METHOD:PUBLISH
X-WR-CALNAME:National Camera Exchange
X-ORIGINAL-URL:https://www.natcam.com
X-WR-CALDESC:Events for National Camera Exchange
BEGIN:VEVENT
DTSTART;TZID=America/Chicago:20231201T100000
DTEND;TZID=America/Chicago:20231201T160000
DTSTAMP:20260421T163839
CREATED:20231110T144223Z
LAST-MODIFIED:20231127T182219Z
UID:458471-1701424800-1701446400@www.natcam.com
SUMMARY:Canon // In-Store Demo • December 1\, 2023
DESCRIPTION:CANON\nIn-Store Demo • December 1st\n  \nJoin Canon Tech Rep\, John Stoilov on Friday\, December 1st and Saturday\, December 2nd for a two day in-store demo event. Stop in between 10am-4pm to experience the latest innovations from the Canon R Series lineup of cameras and lenses. Bring your questions\, camera bodies\, and lenses to try out some cutting-edge gear. Don’t miss this exciting opportunity to meet experts in person\, explore new cameras and lenses\, and get your questions answered. We can’t wait to see you here! \n•••••••••••••••••••••• \nLooking to upgrade your gear? Bring in your cameras\, lenses and sports optics to get a quote from our knowledgeable sales staff on the value of trading it in towards a new purchase. \nIf you have any questions about this or any other event\, please email us at classes@natcam.com. We will do our best to get back to you within 1-2 business days. \n
URL:https://www.natcam.com/event/canon-store-demo-%e2%80%a2-december-1-2023/
LOCATION:9300 Olson Memorial Highway\, Golden Valley\, MN\, 55427\, United States
GEO:44.9842769;-93.3982752
X-APPLE-STRUCTURED-LOCATION;VALUE=URI;X-ADDRESS=9300 Olson Memorial Highway Golden Valley MN 55427 United States;X-APPLE-RADIUS=500;X-TITLE=9300 Olson Memorial Highway:geo:-93.3982752,44.9842769
CATEGORIES:Special Events
ATTACH;FMTTYPE=image/jpeg:https://www.natcam.com/wp-content/uploads/2023/11/canon-demos-12.1-2_event-banner.jpg
END:VEVENT
END:VCALENDAR