BEGIN:VCALENDAR
VERSION:2.0
PRODID:-//National Camera Exchange - ECPv4.6.11.1//NONSGML v1.0//EN
CALSCALE:GREGORIAN
METHOD:PUBLISH
X-WR-CALNAME:National Camera Exchange
X-ORIGINAL-URL:https://www.natcam.com
X-WR-CALDESC:Events for National Camera Exchange
BEGIN:VEVENT
DTSTART;TZID=America/Chicago:20240323T100000
DTEND;TZID=America/Chicago:20240323T160000
DTSTAMP:20260426T040735
CREATED:20240228T200008Z
LAST-MODIFIED:20240305T194906Z
UID:479605-1711188000-1711209600@www.natcam.com
SUMMARY:Canon // In-Store Demo • March 23\, 2024
DESCRIPTION:CANON\nIn-Store Demo // March 23rd\n  \nDiscover the latest innovations within the Canon R Series lineup of camera gear and take your photography skills to the next level! \nJoin Canon Tech Rep\, John Stoilov on March 23rd\, from 10am-4pm for an in-store product demo and check out the latest innovations and newest RF lenses. John will be showcasing the brand new RF10-20mm F4 L\, the RF24-105mm F2.8 L IS Z and the amazing zoom RF200-800mm F6.3-9 IS lenses\, among a variety of Canon R series cameras and lenses. \nBring your questions\, camera bodies\, and lenses to try out some cutting-edge gear. Don’t miss this exciting opportunity to meet the expert in person\, explore new cameras and lenses\, and get your questions answered. We can’t wait to see you here! \n• • • • • \nLooking to upgrade your gear? Bring in your cameras\, lenses and sports optics to get a quote from our knowledgeable sales staff on the value of trading it in towards a new purchase. \n• • • • • \nIf you have any questions about this or any other event\, please email us at classes@natcam.com. We will do our best to get back to you within 1-2 business days. \nCheck out our full calendar here \n
URL:https://www.natcam.com/event/canon-store-demo-%e2%80%a2-march-23-2024/
LOCATION:9300 Olson Memorial Highway\, Golden Valley\, MN\, 55427\, United States
GEO:44.9842769;-93.3982752
X-APPLE-STRUCTURED-LOCATION;VALUE=URI;X-ADDRESS=9300 Olson Memorial Highway Golden Valley MN 55427 United States;X-APPLE-RADIUS=500;X-TITLE=9300 Olson Memorial Highway:geo:-93.3982752,44.9842769
CATEGORIES:Special Events
ATTACH;FMTTYPE=image/jpeg:https://www.natcam.com/wp-content/uploads/2024/02/canon-demo-03-23_event-banner.jpg
END:VEVENT
END:VCALENDAR