BEGIN:VCALENDAR
VERSION:2.0
PRODID:-//National Camera Exchange - ECPv4.6.11.1//NONSGML v1.0//EN
CALSCALE:GREGORIAN
METHOD:PUBLISH
X-WR-CALNAME:National Camera Exchange
X-ORIGINAL-URL:https://www.natcam.com
X-WR-CALDESC:Events for National Camera Exchange
BEGIN:VEVENT
DTSTART;TZID=America/Chicago:20170708T153000
DTEND;TZID=America/Chicago:20170708T163000
DTSTAMP:20260419T212636
CREATED:20170701T023239Z
LAST-MODIFIED:20170701T161110Z
UID:78256-1499527800-1499531400@www.natcam.com
SUMMARY:Canon Top Ten Tips and Tricks @ Golden Valley
DESCRIPTION:Join Canon Technical Rep. John Stolov to learn some of the Tips and Tricks about your Canon Camera that you might not know it did.  Including Tips on Touchscreen\, Menus\, Wifi\, Auto Focus and more! This hour long seminar will take you far in using the best of technology that your Canon camera can offer! \n
URL:https://www.natcam.com/event/canon-top-ten-tips-tricks-golden-valley/
LOCATION:9300 Olson Memorial Highway\, Golden Valley\, MN\, 55427\, United States
GEO:44.9842769;-93.3982752
X-APPLE-STRUCTURED-LOCATION;VALUE=URI;X-ADDRESS=9300 Olson Memorial Highway Golden Valley MN 55427 United States;X-APPLE-RADIUS=500;X-TITLE=9300 Olson Memorial Highway:geo:-93.3982752,44.9842769
CATEGORIES:Special Events,Specialty Classes
END:VEVENT
END:VCALENDAR