BEGIN:VCALENDAR
VERSION:2.0
PRODID:-//National Camera Exchange - ECPv4.6.11.1//NONSGML v1.0//EN
CALSCALE:GREGORIAN
METHOD:PUBLISH
X-WR-CALNAME:National Camera Exchange
X-ORIGINAL-URL:https://www.natcam.com
X-WR-CALDESC:Events for National Camera Exchange
BEGIN:VEVENT
DTSTART;TZID=America/Chicago:20170707T110000
DTEND;TZID=America/Chicago:20170707T120000
DTSTAMP:20260419T212542
CREATED:20170701T022808Z
LAST-MODIFIED:20170701T161525Z
UID:78253-1499425200-1499428800@www.natcam.com
SUMMARY:Canon: Top Ten Tips and Tricks
DESCRIPTION:Join Canon Technical Rep. John Stolov to learn some of the Tips and Tricks about your Canon Camera that you might not know it did.  Including Tips on Touchscreen\, Menus\, Wifi\, Auto Focus and more! This hour long seminar will take you far in using the best of technology that your Canon camera can offer! \n
URL:https://www.natcam.com/event/canon-top-ten-tips-tricks/
LOCATION:2401 Fairview Avenue N #10\, Roseville\, MN\, 55113\, United States
GEO:45.0136491;-93.1791898
X-APPLE-STRUCTURED-LOCATION;VALUE=URI;X-ADDRESS=2401 Fairview Avenue N #10 Roseville MN 55113 United States;X-APPLE-RADIUS=500;X-TITLE=2401 Fairview Avenue N #10:geo:-93.1791898,45.0136491
CATEGORIES:Special Events,Specialty Classes
END:VEVENT
END:VCALENDAR