BEGIN:VCALENDAR
VERSION:2.0
PRODID:-//National Camera Exchange - ECPv4.6.11.1//NONSGML v1.0//EN
CALSCALE:GREGORIAN
METHOD:PUBLISH
X-WR-CALNAME:National Camera Exchange
X-ORIGINAL-URL:https://www.natcam.com
X-WR-CALDESC:Events for National Camera Exchange
BEGIN:VEVENT
DTSTART;TZID=America/Chicago:20190405T180000
DTEND;TZID=America/Chicago:20190405T200000
DTSTAMP:20260420T115321
CREATED:20180323T203723Z
LAST-MODIFIED:20190309T175137Z
UID:188099-1554487200-1554494400@www.natcam.com
SUMMARY:Carrol Henderson Wildlife Tips and Tricks @ Roseville
DESCRIPTION:Wildlife Tips and Tricks with Carrol Henderson\nSeminar\nLearn tips\, tricks\, and techniques for taking successful wildlife photos of from nationally known wildlife biologist\, author\, and nature photographer Carrol Henderson. This workshop will feature the techniques that Henderson has developed for successful wildlife photography experiences and coming home from your photography outings with memorable images of your wildlife encounters.  \n Over the past 31 years\, Carrol Henderson\, along with his wife Ethelle\, have guided birding and wildlife photographic excursions throughout Latin America\, New Zealand\, Kenya\, and Tanzania. \n  \n  \n
URL:https://www.natcam.com/event/carrol-henderson-wildlife-tips-tricks-roseville-2-2/
LOCATION:2401 Fairview Avenue N #10\, Roseville\, MN\, 55113\, United States
GEO:45.0136491;-93.1791898
X-APPLE-STRUCTURED-LOCATION;VALUE=URI;X-ADDRESS=2401 Fairview Avenue N #10 Roseville MN 55113 United States;X-APPLE-RADIUS=500;X-TITLE=2401 Fairview Avenue N #10:geo:-93.1791898,45.0136491
CATEGORIES:Special Events,Specialty Classes
ATTACH;FMTTYPE=image/jpeg:https://www.natcam.com/wp-content/uploads/2018/03/carrol-henderson.jpg
END:VEVENT
END:VCALENDAR