BEGIN:VCALENDAR
VERSION:2.0
PRODID:-//National Camera Exchange - ECPv4.6.11.1//NONSGML v1.0//EN
CALSCALE:GREGORIAN
METHOD:PUBLISH
X-WR-CALNAME:National Camera Exchange
X-ORIGINAL-URL:https://www.natcam.com
X-WR-CALDESC:Events for National Camera Exchange
BEGIN:VEVENT
DTSTART;TZID=America/Chicago:20180413T180000
DTEND;TZID=America/Chicago:20180413T200000
DTSTAMP:20260420T064839
CREATED:20180323T203723Z
LAST-MODIFIED:20180412T153210Z
UID:130846-1523642400-1523649600@www.natcam.com
SUMMARY:Carrol Henderson Wildlife Tips and Tricks @ Roseville
DESCRIPTION:Wildlife Tips and Tricks with Carrol Henderson\nSeminar\nLearn tips\, tricks\, and techniques for taking successful wildlife photos of wildlife from nationally known wildlife expert and photographer\, Carrol Henderson. He’ll cover the equipment & accessories needed to capture the great images\, help you identify your photography goals\, and then show how to “get the shot” that will give you great images and memories that make photography such a great hobby. Henderson has sharpened his skills over the past year with trips to Patagonia and Costa Rica and he will share some of his new images in the program. \n
URL:https://www.natcam.com/event/carrol-henderson-wildlife-tips-tricks-roseville/
LOCATION:2401 Fairview Avenue N #10\, Roseville\, MN\, 55113\, United States
GEO:45.0136491;-93.1791898
X-APPLE-STRUCTURED-LOCATION;VALUE=URI;X-ADDRESS=2401 Fairview Avenue N #10 Roseville MN 55113 United States;X-APPLE-RADIUS=500;X-TITLE=2401 Fairview Avenue N #10:geo:-93.1791898,45.0136491
CATEGORIES:Special Events,Specialty Classes
ATTACH;FMTTYPE=image/png:https://www.natcam.com/wp-content/uploads/2018/03/Wildlife_sitebanner.png
END:VEVENT
END:VCALENDAR