BEGIN:VCALENDAR
VERSION:2.0
PRODID:-//National Camera Exchange - ECPv4.6.11.1//NONSGML v1.0//EN
CALSCALE:GREGORIAN
METHOD:PUBLISH
X-WR-CALNAME:National Camera Exchange
X-ORIGINAL-URL:https://www.natcam.com
X-WR-CALDESC:Events for National Camera Exchange
BEGIN:VEVENT
DTSTART;TZID=America/Chicago:20161112T103000
DTEND;TZID=America/Chicago:20161112T123000
DTSTAMP:20260419T212541
CREATED:20160616T175913Z
LAST-MODIFIED:20161011T171052Z
UID:19211-1478946600-1478953800@www.natcam.com
SUMMARY:Compact Automatic Cameras @ Burnsville
DESCRIPTION:This class focuses on how to use various features of most point and shoot digital cameras to take great photographs. Camera menu options and features common to most brands are covered along with compositional techniques to improve your photography. \nTopics include:\nDigital Terminology\nCamera and Memory Care\nQuality Settings\nMenu Options\nIn-Camera Editing\nHow to Focus Properly\nFlash and Lighting Options \nNOTE: This class does not cover any computer related issues. \n
URL:https://www.natcam.com/event/compact-automatic-cameras-burnsville-4/
CATEGORIES:Digital Photography Classes
ATTACH;FMTTYPE=image/png:https://www.natcam.com/wp-content/uploads/2016/06/Compact.png
END:VEVENT
END:VCALENDAR