BEGIN:VCALENDAR
VERSION:2.0
PRODID:-//National Camera Exchange - ECPv4.6.11.1//NONSGML v1.0//EN
CALSCALE:GREGORIAN
METHOD:PUBLISH
X-WR-CALNAME:National Camera Exchange
X-ORIGINAL-URL:https://www.natcam.com
X-WR-CALDESC:Events for National Camera Exchange
BEGIN:VEVENT
DTSTART;TZID=America/Chicago:20190720T103000
DTEND;TZID=America/Chicago:20190720T123000
DTSTAMP:20260420T062803
CREATED:20170207T230244Z
LAST-MODIFIED:20190719T163736Z
UID:209508-1563618600-1563625800@www.natcam.com
SUMMARY:Compact Cameras @ Golden Valley
DESCRIPTION:This class focuses on how to use various features of most point and shoot digital cameras to take great photographs. Camera menu options and features common to most brands are covered along with compositional techniques to improve your photography. \nTopics include:\nDigital Terminology\nCamera and Memory Care\nQuality Settings\nMenu Options\nIn-Camera Editing\nHow to Focus Properly\nFlash and Lighting Options \nNOTE: This class does not cover any computer related issues. \n
URL:https://www.natcam.com/event/compact-automatic-cameras-edina-6-2-2-2-2-3-2-2-3-3-3-2-3-2-2-2-2-2-2-2-2-2-2/
LOCATION:9300 Olson Memorial Highway\, Golden Valley\, MN\, 55427\, United States
GEO:44.9842769;-93.3982752
X-APPLE-STRUCTURED-LOCATION;VALUE=URI;X-ADDRESS=9300 Olson Memorial Highway Golden Valley MN 55427 United States;X-APPLE-RADIUS=500;X-TITLE=9300 Olson Memorial Highway:geo:-93.3982752,44.9842769
CATEGORIES:Digital Photography Classes
END:VEVENT
END:VCALENDAR