BEGIN:VCALENDAR
VERSION:2.0
PRODID:-//National Camera Exchange - ECPv4.6.11.1//NONSGML v1.0//EN
CALSCALE:GREGORIAN
METHOD:PUBLISH
X-WR-CALNAME:National Camera Exchange
X-ORIGINAL-URL:https://www.natcam.com
X-WR-CALDESC:Events for National Camera Exchange
BEGIN:VEVENT
DTSTART;TZID=America/Chicago:20190409T180000
DTEND;TZID=America/Chicago:20190409T200000
DTSTAMP:20260420T115235
CREATED:20170207T230244Z
LAST-MODIFIED:20190318T175820Z
UID:189452-1554832800-1554840000@www.natcam.com
SUMMARY:Compact Cameras @ Edina
DESCRIPTION:This class focuses on how to use various features of most point and shoot digital cameras to take great photographs. Camera menu options and features common to most brands are covered along with compositional techniques to improve your photography. \nTopics include:\nDigital Terminology\nCamera and Memory Care\nQuality Settings\nMenu Options\nIn-Camera Editing\nHow to Focus Properly\nFlash and Lighting Options \nNOTE: This class does not cover any computer related issues. \n
URL:https://www.natcam.com/event/compact-automatic-cameras-edina-6-2-2-2-2-3-2-2-3-3-3-2-3-2-2-2-2-2-2-2-2/
CATEGORIES:Digital Photography Classes
END:VEVENT
END:VCALENDAR