BEGIN:VCALENDAR
VERSION:2.0
PRODID:-//National Camera Exchange - ECPv4.6.11.1//NONSGML v1.0//EN
CALSCALE:GREGORIAN
METHOD:PUBLISH
X-WR-CALNAME:National Camera Exchange
X-ORIGINAL-URL:https://www.natcam.com
X-WR-CALDESC:Events for National Camera Exchange
BEGIN:VEVENT
DTSTART;TZID=America/Chicago:20180117T180000
DTEND;TZID=America/Chicago:20180117T200000
DTSTAMP:20260421T012705
CREATED:20170307T205321Z
LAST-MODIFIED:20171211T231157Z
UID:111466-1516212000-1516219200@www.natcam.com
SUMMARY:Digital SLR & Mirrorless 2 @ Burnsville
DESCRIPTION:This class builds upon the topics covered in our Digital SLR 1 class. We highly recommend that customers attend the Digital SLR 1 class first. \nClass topics include:\nLens Compression\nWhite Balance\nPhotographic Terminology\nComponents of Depth of Field\nFlash Photography\nExposure Compensation\nUnderstanding Histograms\nRule of Thirds \n
URL:https://www.natcam.com/event/digital-slr-1-golden-valley-12-2-2-2-2-2-2-3-2-3-6/
CATEGORIES:Digital Photography Classes
END:VEVENT
END:VCALENDAR