BEGIN:VCALENDAR
VERSION:2.0
PRODID:-//National Camera Exchange - ECPv4.6.11.1//NONSGML v1.0//EN
CALSCALE:GREGORIAN
METHOD:PUBLISH
X-WR-CALNAME:National Camera Exchange
X-ORIGINAL-URL:https://www.natcam.com
X-WR-CALDESC:Events for National Camera Exchange
BEGIN:VEVENT
DTSTART;TZID=America/Chicago:20170809T180000
DTEND;TZID=America/Chicago:20170809T200000
DTSTAMP:20260420T025606
CREATED:20170208T162705Z
LAST-MODIFIED:20170720T160535Z
UID:82028-1502301600-1502308800@www.natcam.com
SUMMARY:Digital SLR/Mirrorless 3 @ Roseville
DESCRIPTION:This class builds upon the topics covered in our DSLR 1 and 2 classes. We highly recommend that customers attend both DSLR 1 and 2 classes first. \nClass topics include:\nCharacteristics of Light\nSeven Essential Camera Settings\nMore Metering\nComplimentary Exposures\n“Hands On” Shooting in Full Manual\nIt is very important to bring your camera to the seminar. \nNOTE: This class does not cover any computer related issues.\n
URL:https://www.natcam.com/event/digital-slr-3-golden-valley-7-2-2-2-2-2-2-2/
LOCATION:2401 Fairview Avenue N #10\, Roseville\, MN\, 55113\, United States
GEO:45.0136491;-93.1791898
X-APPLE-STRUCTURED-LOCATION;VALUE=URI;X-ADDRESS=2401 Fairview Avenue N #10 Roseville MN 55113 United States;X-APPLE-RADIUS=500;X-TITLE=2401 Fairview Avenue N #10:geo:-93.1791898,45.0136491
CATEGORIES:Digital Photography Classes
END:VEVENT
END:VCALENDAR