BEGIN:VCALENDAR
VERSION:2.0
PRODID:-//National Camera Exchange - ECPv4.6.11.1//NONSGML v1.0//EN
CALSCALE:GREGORIAN
METHOD:PUBLISH
X-WR-CALNAME:National Camera Exchange
X-ORIGINAL-URL:https://www.natcam.com
X-WR-CALDESC:Events for National Camera Exchange
BEGIN:VEVENT
DTSTART;TZID=America/Chicago:20180927T180000
DTEND;TZID=America/Chicago:20180927T200000
DTSTAMP:20260421T031816
CREATED:20170207T213506Z
LAST-MODIFIED:20180822T224906Z
UID:155956-1538071200-1538078400@www.natcam.com
SUMMARY:Digital SLR & Mirrorless 1 @ Roseville
DESCRIPTION:This class is designed for people using a digital SLR camera for the first time. Camera menu options and features common to most brands are covered. Class topics include: \nBasic Equipment\nDeleting and Formatting\nFocus and Drive Modes\nPhotography Terminology\nIntroduction to Exposure Modes\nUsing Your Flash\nComposition \nPlease note that you will not be using your camera during this class\, however you are welcome to bring it.  Also\, this class does not cover any computer related issues.  \n
URL:https://www.natcam.com/event/digital-slr1-roseville-2-2-3-2-2-4-2-3-13-3-3-3-3-3/
LOCATION:2401 Fairview Avenue N #10\, Roseville\, MN\, 55113\, United States
GEO:45.0136491;-93.1791898
X-APPLE-STRUCTURED-LOCATION;VALUE=URI;X-ADDRESS=2401 Fairview Avenue N #10 Roseville MN 55113 United States;X-APPLE-RADIUS=500;X-TITLE=2401 Fairview Avenue N #10:geo:-93.1791898,45.0136491
CATEGORIES:Digital Photography Classes
END:VEVENT
END:VCALENDAR