BEGIN:VCALENDAR
VERSION:2.0
PRODID:-//National Camera Exchange - ECPv4.6.11.1//NONSGML v1.0//EN
CALSCALE:GREGORIAN
METHOD:PUBLISH
X-WR-CALNAME:National Camera Exchange
X-ORIGINAL-URL:https://www.natcam.com
X-WR-CALDESC:Events for National Camera Exchange
BEGIN:VEVENT
DTSTART;TZID=America/Chicago:20181011T190000
DTEND;TZID=America/Chicago:20181011T210000
DTSTAMP:20260420T115234
CREATED:20170811T212852Z
LAST-MODIFIED:20180910T201623Z
UID:159338-1539284400-1539291600@www.natcam.com
SUMMARY:Drink and Click Minneapolis Photography Event with Olympus
DESCRIPTION:Drink and Click will be hosting a free event in Minneapolis with Olympus and National Camera at  Nolo’s Kitchen and Bar on October 11th from 7-9pm. \nOlympus will be bringing all their latest cameras and lenses including the new Olympus E- M1 II and their new series of f/1.2 lenses. We will also have a models and lighting for you to put those cameras to work and get some great images. \nAfter you register there is NO need to print the ticket. Once you get there you will get a raffle ticket for the giveaways which will happen at the end of the event. Yes\, you have to be present to win. You will then precede to the loaner table and select the camera and lens combination you would like to use. Once you are ready to trade for something else avoid the initial line and go straight to the table to swap your camera or lens. \nDon’t forget\, bring your SD card so you can take your images home. Also\, depending on attendance\, demo equipment can be in high demand.  If you have your own Olympus or any other brand of camera\, it is recommended that you bring your camera with so you can be clicking until you can get a demo in your hands.  \n  \nFollow this link to register: https://www.eventbrite.com/e/drink-and-clicktm-minneapolis-event-with-national-camera-exchange-olympus-tickets-49367830510?aff=erelexpmlt \n
URL:https://www.natcam.com/event/drink-click-minneapolis-photography-event-olympus-2/
LOCATION:515 N Washington Ave #100\, Minneapolis\, MN\, 55401
GEO:44.9862095;-93.2756092
X-APPLE-STRUCTURED-LOCATION;VALUE=URI;X-ADDRESS=515 N Washington Ave #100 Minneapolis MN 55401;X-APPLE-RADIUS=500;X-TITLE=515 N Washington Ave #100:geo:-93.2756092,44.9862095
CATEGORIES:Special Events
ATTACH;FMTTYPE=image/png:https://www.natcam.com/wp-content/uploads/2017/08/drinkandclick17-1.png
END:VEVENT
END:VCALENDAR