BEGIN:VCALENDAR
VERSION:2.0
PRODID:-//National Camera Exchange - ECPv4.6.11.1//NONSGML v1.0//EN
CALSCALE:GREGORIAN
METHOD:PUBLISH
X-WR-CALNAME:National Camera Exchange
X-ORIGINAL-URL:https://www.natcam.com
X-WR-CALDESC:Events for National Camera Exchange
BEGIN:VEVENT
DTSTART;TZID=America/Chicago:20180421T103000
DTEND;TZID=America/Chicago:20180421T123000
DTSTAMP:20260420T101403
CREATED:20180323T203932Z
LAST-MODIFIED:20180417T162920Z
UID:130843-1524306600-1524313800@www.natcam.com
SUMMARY:DIY Backyard Photo Studio w/ Carrol Henderson
DESCRIPTION:DIY Backyard Photo Studio with Carrol Henderson\nSeminar\nWildlife biologist\, author\, and nature photographer Carrol Henderson will provide you with a multitude of tips for developing your backyard into your own outdoor studio where you can practice and improve your nature photography techniques. You can landscape with trees\, shrubs\, perennials\, and annuals to attract songbirds\, butterflies\, and hummingbirds. You can provide multiple feeders to attract wildlife in all four seasons\, and with a water feature you can attract many birds that don’t come to feeders. Nest boxes also provide great opportunities to attract cavity-nesting wildlife. \n
URL:https://www.natcam.com/event/dyi-backyard-photo-studio-w-carrol-henderson/
LOCATION:9300 Olson Memorial Highway\, Golden Valley\, MN\, 55427\, United States
GEO:44.9842769;-93.3982752
X-APPLE-STRUCTURED-LOCATION;VALUE=URI;X-ADDRESS=9300 Olson Memorial Highway Golden Valley MN 55427 United States;X-APPLE-RADIUS=500;X-TITLE=9300 Olson Memorial Highway:geo:-93.3982752,44.9842769
CATEGORIES:Special Events,Specialty Classes
ATTACH;FMTTYPE=image/png:https://www.natcam.com/wp-content/uploads/2018/03/DIY-Backyard_sitebanner-1.png
END:VEVENT
END:VCALENDAR