BEGIN:VCALENDAR
VERSION:2.0
PRODID:-//National Camera Exchange - ECPv4.6.11.1//NONSGML v1.0//EN
CALSCALE:GREGORIAN
METHOD:PUBLISH
X-WR-CALNAME:National Camera Exchange
X-ORIGINAL-URL:https://www.natcam.com
X-WR-CALDESC:Events for National Camera Exchange
BEGIN:VEVENT
DTSTART;TZID=America/Chicago:20230622T183000
DTEND;TZID=America/Chicago:20230622T203000
DTSTAMP:20260420T010439
CREATED:20230601T150215Z
LAST-MODIFIED:20230601T150215Z
UID:430638-1687458600-1687465800@www.natcam.com
SUMMARY:Evening Photo Meet-up with Tamron // Crow-Hassan Park Reserve
DESCRIPTION:Evening Photo Meet-up with Tamron\nCrow-Hassan Park Reserve // June 22\, 2023\n  \nJoin Mike Pazandak of Tamron for a photo meet-up at Crow-Hassan Park Reserve on Thursday\, June 22nd at 6:30pm. This is a free event aimed at photographers of any experience level with interchangeable lens cameras. Crow-Hassan Park Reserve features a diverse landscape with opportunities to photograph wooded areas and natural prairie with seasonal colored landscapes as well as birds and wildlife.  \nWhen you arrive\, park in the main lot and we’ll meet up as a group before heading out on the trails. A select amount of loaner lenses will be provided by Tamron—if you intend to borrow gear during this event\, please be sure to arrive early as lenses are limited and will be available on a first-come\, first-served basis. After our initial meetup\, you’ll be free to explore the area on your own or stick around the experts for more guided\, personalized advice. Whatever you need\, we’re here to help!  \n  \nThis is a great opportunity to enhance your photography skills and capture stunning images in the scenic Crow-Hassan Park Reserve. We look forward to seeing you there! \n  \nEVENT SCHEDULE \n\n6:30-6:45 // Check-in + Loaner Gear \n6:45-8:15 // Photo Walk\n8:15-8:30 // Wrap-up + Return Gear\n\n  \nBE PREPARED! \nAs this event will be held outdoors rain or shine\, we recommend that you dress comfortably and accordingly for the weather. We will be walking approximately 1-2 miles over the duration of the event on sand and grass trails. To make your experience more enjoyable\, we also recommend that you consider bringing some bug spray along\, as it is likely that we will encounter mosquitoes and other insects along the way! \nPack your interchangeable lens camera\, lenses\, and charge up your batteries before the event! We also recommend bringing additional batteries and memory cards just in case.  \nPlease note: You must have a valid driver’s license to check out Tamron loaner lenses. \n  \nREGISTRATION: This event is free and does not require registration. \n  \nLOCATION ADDRESS: \nCrow-Hassan Park Reserve \n12595 Park Drive  Hanover\, MN 55374 \n  \nFor more information about Crow-Hassan Park Reserve\, click here. \n  \nIf you have any questions about this or any other event\, please email us at classes@natcam.com. We will do our best to get back to you within 1-2 business days. \n
URL:https://www.natcam.com/event/evening-photo-meet-up-with-tamron-crow-hassan-park-reserve/
LOCATION:12595 Park Drove\, Hanover\, MN\, 55374\, United States
CATEGORIES:Special Events
ATTACH;FMTTYPE=image/jpeg:https://www.natcam.com/wp-content/uploads/2023/05/tamron-meetup-06.22-event-banner.jpg
END:VEVENT
END:VCALENDAR