BEGIN:VCALENDAR
VERSION:2.0
PRODID:-//National Camera Exchange - ECPv4.6.11.1//NONSGML v1.0//EN
CALSCALE:GREGORIAN
METHOD:PUBLISH
X-WR-CALNAME:National Camera Exchange
X-ORIGINAL-URL:https://www.natcam.com
X-WR-CALDESC:Events for National Camera Exchange
BEGIN:VEVENT
DTSTART;TZID=America/Chicago:20240328T180000
DTEND;TZID=America/Chicago:20240328T191500
DTSTAMP:20260426T040733
CREATED:20240301T153046Z
LAST-MODIFIED:20240328T180811Z
UID:480019-1711648800-1711653300@www.natcam.com
SUMMARY:Exploring the FUJIFILM X100VI // Online Seminar • March 28\, 2024
DESCRIPTION:Exploring the FUJIFILM X100VI\nOnline Seminar • March 28\, 2024\n  \nJoin us as we explore the features of the new FUJIFILM X100VI in an online seminar with Fujifilm Senior Tech Christopher Gilbert.  \nIn this seminar Christopher will cover a myriad of features of the FUJIFILM X100VI\, from its compact and lightweight build to its impressive capabilities in capturing stunning 40.2MP images and immersive 6.2K/30P video. Thanks to the X100VI’s In-Body Image Stabilization (IBIS) and AI-assisted autofocus\, you can experience the freedom to pursue your creative vision with confidence. Plus\, add depth and character to your visual storytelling with the new REALA ACE Film Simulation mode!  \nThis camera seamlessly merges cutting-edge technology with a timeless\, dial-based design\, offering photographers an unparalleled blend of functionality and style. Whether you’re a seasoned professional or an enthusiastic amateur\, this seminar is your gateway to unleashing your creative potential with the new FUJIFILM X100VI. The seminar will roughly cover the first hour\, and we will wrap up with a Q&A portion at the end—be sure to bring your questions. \n  \n• • • • • \nREGRISTRATION: FREE \nThis is a free online seminar and does not require registration.  \nPlease Note: This is a live online event\, the seminar will not be recorded. \n  \nONLINE PLATFORM: ZOOM \nWe will will be using the Zoom platform for this seminar. We recommend joining up to 10 minutes early\, to ensure that you have time to troubleshoot your connection if necessary. You will be placed in a waiting room until the host is ready to begin the event. \n  \nLink to Join: https://fujifilm.zoom.us/j/91782985886?pwd=SHZnSlJqNlc0VUhHUm1hSno5Yzd4QT09 \nMeeting ID: 917 8298 5886 \nPassword: NatCam24 \n• • • • • \n  \nIf you have any questions about this or any other event\, please email us at classes@natcam.com. We will do our best to get back to you within 1-2 business days. \n
URL:https://www.natcam.com/event/exploring-fujifilm-x100vi-online-seminar-%e2%80%a2-march-28-2024/
CATEGORIES:Specialty Classes
ATTACH;FMTTYPE=image/jpeg:https://www.natcam.com/wp-content/uploads/2024/03/fuji-x100vi-03-28_event-banner.jpg
END:VEVENT
END:VCALENDAR