BEGIN:VCALENDAR
VERSION:2.0
PRODID:-//National Camera Exchange - ECPv4.6.11.1//NONSGML v1.0//EN
CALSCALE:GREGORIAN
METHOD:PUBLISH
X-WR-CALNAME:National Camera Exchange
X-ORIGINAL-URL:https://www.natcam.com
X-WR-CALDESC:Events for National Camera Exchange
BEGIN:VEVENT
DTSTART;TZID=America/Chicago:20180609T130000
DTEND;TZID=America/Chicago:20180609T140000
DTSTAMP:20260419T202858
CREATED:20180531T182954Z
LAST-MODIFIED:20180604T212924Z
UID:143078-1528549200-1528552800@www.natcam.com
SUMMARY:Get to Know the Nikon D850 @ Golden Valley
DESCRIPTION:Get to Know the Nikon D850\nSeminar\nFriday June 8th at 3pm at Roseville and on Saturday June 9th at 1pm at GoldenValley\nIf you are interested in or already own the Nikon D850\, this mini-seminar is for you! Learn from one of Nikon’s Tech Reps about some of its amazing technology including high resolution\, ultra speed & 4K video capabilities from the full width of its sensor. Plus learn tips on how to utilize its features in order to capture breathtaking photos. \n
URL:https://www.natcam.com/event/get-know-nikon-d850-roseville-2/
LOCATION:9300 Olson Memorial Highway\, Golden Valley\, MN\, 55427\, United States
GEO:44.9842769;-93.3982752
X-APPLE-STRUCTURED-LOCATION;VALUE=URI;X-ADDRESS=9300 Olson Memorial Highway Golden Valley MN 55427 United States;X-APPLE-RADIUS=500;X-TITLE=9300 Olson Memorial Highway:geo:-93.3982752,44.9842769
CATEGORIES:Special Events,Specialty Classes
ATTACH;FMTTYPE=image/png:https://www.natcam.com/wp-content/uploads/2018/05/D850-webheader.png
END:VEVENT
END:VCALENDAR