BEGIN:VCALENDAR
VERSION:2.0
PRODID:-//National Camera Exchange - ECPv4.6.11.1//NONSGML v1.0//EN
CALSCALE:GREGORIAN
METHOD:PUBLISH
X-WR-CALNAME:National Camera Exchange
X-ORIGINAL-URL:https://www.natcam.com
X-WR-CALDESC:Events for National Camera Exchange
BEGIN:VEVENT
DTSTART;TZID=America/Chicago:20161107T180000
DTEND;TZID=America/Chicago:20161107T200000
DTSTAMP:20260419T115126
CREATED:20160823T185124Z
LAST-MODIFIED:20161011T201122Z
UID:19358-1478541600-1478548800@www.natcam.com
SUMMARY:Introduction to DSLR Video @ Edina
DESCRIPTION:This class covers the equipment and accessories used in DSLR filmmaking. Shooting in both auto and manual mode will be discussed along with shooting techniques to create great videos. Burning\, posting and editing software options will be covered. \nClass topics include:\nEquipment and Accessories\nShooting Video in Auto Mode\nShooting Video in Manual Mode\nShooting Techniques\nBurning Videos to DVD\nPosting Videos to the Web\nEditing Software\nNOTE: Students attending this class should be comfortable in either Shutter or Aperture priority. We recommend students attend our DSLR 1 and 2 programs before attending the DSLR video class. \n
URL:https://www.natcam.com/event/introduction-dslr-video-edina/
CATEGORIES:Digital Video Classes
ATTACH;FMTTYPE=image/png:https://www.natcam.com/wp-content/uploads/2016/06/DSLR-Video.png
END:VEVENT
END:VCALENDAR