BEGIN:VCALENDAR
VERSION:2.0
PRODID:-//National Camera Exchange - ECPv4.6.11.1//NONSGML v1.0//EN
CALSCALE:GREGORIAN
METHOD:PUBLISH
X-WR-CALNAME:National Camera Exchange
X-ORIGINAL-URL:https://www.natcam.com
X-WR-CALDESC:Events for National Camera Exchange
BEGIN:VEVENT
DTSTART;TZID=America/Chicago:20171215T180000
DTEND;TZID=America/Chicago:20171215T193000
DTSTAMP:20260420T062445
CREATED:20171202T212926Z
LAST-MODIFIED:20171202T212926Z
UID:110627-1513360800-1513366200@www.natcam.com
SUMMARY:An Introduction to the Sony A7r III
DESCRIPTION:Want to learn more about the new Sony A7r III?  Join Sony Technical Representative Ashley Ondricek to learn about key features\, set up\, and how to customize the Sony A7r III to your style of photography and videography.  Whether you own one or are planning to purchase one\, this class will familiarize you with this new and exciting new camera as well as Sonys variety of lenses and accessories to take your shooting to the next level. \nSeminar \n
URL:https://www.natcam.com/event/introduction-sony-a7r-iii/
LOCATION:2401 Fairview Avenue N #10\, Roseville\, MN\, 55113\, United States
GEO:45.0136491;-93.1791898
X-APPLE-STRUCTURED-LOCATION;VALUE=URI;X-ADDRESS=2401 Fairview Avenue N #10 Roseville MN 55113 United States;X-APPLE-RADIUS=500;X-TITLE=2401 Fairview Avenue N #10:geo:-93.1791898,45.0136491
CATEGORIES:Special Events,Specialty Classes
ATTACH;FMTTYPE=image/png:https://www.natcam.com/wp-content/uploads/2017/12/SonyA7RIII-Class-webheader.png
END:VEVENT
END:VCALENDAR