BEGIN:VCALENDAR
VERSION:2.0
PRODID:-//National Camera Exchange - ECPv4.6.11.1//NONSGML v1.0//EN
CALSCALE:GREGORIAN
METHOD:PUBLISH
X-WR-CALNAME:National Camera Exchange
X-ORIGINAL-URL:https://www.natcam.com
X-WR-CALDESC:Events for National Camera Exchange
BEGIN:VEVENT
DTSTART;TZID=America/Chicago:20170914T180000
DTEND;TZID=America/Chicago:20170914T200000
DTSTAMP:20260420T062616
CREATED:20160616T173230Z
LAST-MODIFIED:20170825T142917Z
UID:82096-1505412000-1505419200@www.natcam.com
SUMMARY:Introduction to Photoshop Elements @ Roseville
DESCRIPTION:This class will cover all the basic manipulations to improve your images: brightness and contrast\, hue and saturation\, changing color to black and white\, color variations\, fixing red-eyes\, adding text\, re-sizing\, sharpening\, selection and other key tools. In the second half of the class we will demonstrate these tools and techniques through a series of tutorials. \nThis is a seminar based class\, no computer needed to attend. \n
URL:https://www.natcam.com/event/introduction-to-photoshop-elements-edina-2-2/
LOCATION:2401 Fairview Avenue N #10\, Roseville\, MN\, 55113\, United States
GEO:45.0136491;-93.1791898
X-APPLE-STRUCTURED-LOCATION;VALUE=URI;X-ADDRESS=2401 Fairview Avenue N #10 Roseville MN 55113 United States;X-APPLE-RADIUS=500;X-TITLE=2401 Fairview Avenue N #10:geo:-93.1791898,45.0136491
CATEGORIES:Digital Editing Classes
ATTACH;FMTTYPE=image/png:https://www.natcam.com/wp-content/uploads/2016/06/Photoshop.png
END:VEVENT
END:VCALENDAR