BEGIN:VCALENDAR
VERSION:2.0
PRODID:-//National Camera Exchange - ECPv4.6.11.1//NONSGML v1.0//EN
CALSCALE:GREGORIAN
METHOD:PUBLISH
X-WR-CALNAME:National Camera Exchange
X-ORIGINAL-URL:https://www.natcam.com
X-WR-CALDESC:Events for National Camera Exchange
BEGIN:VEVENT
DTSTART;TZID=America/Chicago:20190622T103000
DTEND;TZID=America/Chicago:20190622T123000
DTSTAMP:20260419T212635
CREATED:20190603T165910Z
LAST-MODIFIED:20190603T165910Z
UID:207108-1561199400-1561206600@www.natcam.com
SUMMARY:Lake Harriet Meetup Critique
DESCRIPTION:Lake Harriet Meetup Critique\nJoin us for  a group critique featured in our Golden Valley classroom on Saturday June 22nd from 10:30am-12:30pm to show off your shots from our Lyndale Garden Meetup. Participants may bring two photos from the day before to receive constructive feedback. The critique is limited to 20 seats and registration is required. This is a free event and a great chance to meet other local photographers! \n
URL:https://www.natcam.com/event/lake-harriet-meetup-critique/
LOCATION:9300 Olson Memorial Highway\, Golden Valley\, MN\, 55427\, United States
GEO:44.9842769;-93.3982752
X-APPLE-STRUCTURED-LOCATION;VALUE=URI;X-ADDRESS=9300 Olson Memorial Highway Golden Valley MN 55427 United States;X-APPLE-RADIUS=500;X-TITLE=9300 Olson Memorial Highway:geo:-93.3982752,44.9842769
ATTACH;FMTTYPE=image/png:https://www.natcam.com/wp-content/uploads/2019/06/Lake-Harriet-Meetup_web-banner.png
END:VEVENT
END:VCALENDAR