BEGIN:VCALENDAR
VERSION:2.0
PRODID:-//National Camera Exchange - ECPv4.6.11.1//NONSGML v1.0//EN
CALSCALE:GREGORIAN
METHOD:PUBLISH
X-WR-CALNAME:National Camera Exchange
X-ORIGINAL-URL:https://www.natcam.com
X-WR-CALDESC:Events for National Camera Exchange
BEGIN:VEVENT
DTSTART;TZID=America/Chicago:20180714T070000
DTEND;TZID=America/Chicago:20180714T100000
DTSTAMP:20260422T145345
CREATED:20180622T223445Z
LAST-MODIFIED:20180702T213651Z
UID:146975-1531551600-1531562400@www.natcam.com
SUMMARY:Leica Sport Optics Walk @ Woodlake Nature Center
DESCRIPTION:Leica Sport Optics Nature Walk\n  \nJoin Leica’s Jeff Bouton at Woodlake Nature Center for a guided birding and nature photo walk featuring Leica sport optics.  Attendees will have the opportunity to test select Leica binoculars and spotting scopes to see the difference offered by Leica’s optical performance.   Those who join the walk will also have the opportunity to experiment with digiscoping while enjoying local birds and nature. \nThis event is free for all!  Please bring your own pair of binoculars\, as well as  a camera if you are interested in learning about digiscoping. \nObserving Nature with Leica Sport Optics: Photo Walk\nJuly 14th\, 7-10am @ Woodlake Nature Center\n\nWoodlake Nature Center Address: 6710 Lake Shore Dr S\, Richfield\, MN 55423\n
URL:https://www.natcam.com/event/leica-sport-optics-walk-woodlake-nature-center/
LOCATION:6710 Lake Shore Dr S\, Richfield\, MN\, 55423\, United States
GEO:44.8810662;-93.2901761
X-APPLE-STRUCTURED-LOCATION;VALUE=URI;X-ADDRESS=6710 Lake Shore Dr S Richfield MN 55423 United States;X-APPLE-RADIUS=500;X-TITLE=6710 Lake Shore Dr S:geo:-93.2901761,44.8810662
CATEGORIES:Special Events
END:VEVENT
END:VCALENDAR