BEGIN:VCALENDAR
VERSION:2.0
PRODID:-//National Camera Exchange - ECPv4.6.11.1//NONSGML v1.0//EN
CALSCALE:GREGORIAN
METHOD:PUBLISH
X-WR-CALNAME:National Camera Exchange
X-ORIGINAL-URL:https://www.natcam.com
X-WR-CALDESC:Events for National Camera Exchange
BEGIN:VEVENT
DTSTART;TZID=America/Chicago:20180713T180000
DTEND;TZID=America/Chicago:20180713T200000
DTSTAMP:20260422T144706
CREATED:20180622T200226Z
LAST-MODIFIED:20180706T164343Z
UID:146969-1531504800-1531512000@www.natcam.com
SUMMARY:Leica Sports Optics Seminar
DESCRIPTION:Leica Sport Optics Seminar\nNo optical product is ideally suited for every birding and nature observation scenario\, and selecting the product best suited to meet your personal needs can be a daunting and overwhelming task. Join Jeff Bouton\, from Leica Sport Optics for an easily understandable presentation on selecting optics for nature observation. As a lifelong professional birder (using & abusing optics daily) and an optics industry insider\, Jeff has a unique understanding of technical specifications and optical characteristics coupled with a first hand understanding of why these are (or are not) important for every day use. His concise\, informative overview will touch on optical specifications\, nomenclature\, product design\, as well as field craft to include popular digiscoping techniques.\n\nThe digiscoping segment will be a review coupling your phone\, point & shoot camera\, or system camera behind a spotting scope to achieve super-telephoto focal lengths in excess of a 3\,000 mm lens! Come see what all of the buzz is about with digiscoping\, binoculars & more!\n\n\nAbout Jeff Bouton:\nJeff Bouton began his birding career as a young teen\, working daily as a seasonal field research biologist for numerous government agencies and non-for-profits all across the United States. This eventually led him to a career as a professional tour guide throughout Alaska. He is a contributing author to multiple American Birding Association bird-finding guides and the novel “Good Birder’s Don’t Wear White” has authored dozens of birding articles and had numerous digiscoped images published in Bird Watcher’s Digest\, Birding\, Birdwatching\, WildBird\, Popular Photography\, and Wildlife Photographer magazines. Through his current position as the Birding / Nature Markets Manager for Leica in the Americas\, Jeff still writes blog posts and creates regular content for social media on numerous platforms\, guides field trips and is a keynote speaker at many birding events worldwide. \n\n\nLeica Sport Optics Seminar\nJuly 13th\, 6-8pm @ GV\nJoin us for a presentation taught by Leica Sport Optics Expert Jeff Bouton.\nRegistration is $20 with a $20 National Camera gift card included!\nObserving Nature with Leica Sport Optics: Guided Optics Walk\nJuly 14th\, 7-10am @ Woodlake Nature Center\nMeet at the Woodlake Nature Center for a guided nature tour using Leica scopes & binoculars. This is a free event for all!\n\nWoodlake Nature Center Address: 6710 Lake Shore Dr S\, Richfield\, MN 55423\n\n
URL:https://www.natcam.com/event/leica-sports-optics-seminar/
LOCATION:9300 Olson Memorial Highway\, Golden Valley\, MN\, 55427\, United States
GEO:44.9842769;-93.3982752
X-APPLE-STRUCTURED-LOCATION;VALUE=URI;X-ADDRESS=9300 Olson Memorial Highway Golden Valley MN 55427 United States;X-APPLE-RADIUS=500;X-TITLE=9300 Olson Memorial Highway:geo:-93.3982752,44.9842769
CATEGORIES:Special Events,Specialty Classes
END:VEVENT
END:VCALENDAR