BEGIN:VCALENDAR
VERSION:2.0
PRODID:-//National Camera Exchange - ECPv4.6.11.1//NONSGML v1.0//EN
CALSCALE:GREGORIAN
METHOD:PUBLISH
X-WR-CALNAME:National Camera Exchange
X-ORIGINAL-URL:https://www.natcam.com
X-WR-CALDESC:Events for National Camera Exchange
BEGIN:VEVENT
DTSTART;TZID=America/Chicago:20170708T140000
DTEND;TZID=America/Chicago:20170708T150000
DTSTAMP:20260419T182804
CREATED:20170701T022051Z
LAST-MODIFIED:20170701T161138Z
UID:78250-1499522400-1499526000@www.natcam.com
SUMMARY:Leica: Street Photography @ Golden Valley
DESCRIPTION:Exploring Rangefinder Photography  \nThis seminar is intended to be an introduction to the Leica line of cameras and an overview of the legendary rangefinder system\, as well as introducing you to the Leica way of seeing.  Matt Butzow will discuss intuitive working methods and shooting techniques that will help you understand and to make the most of this system.  \n  \nLeica Representative \nJoin Matt Butzow from Leica for complimentary one-hour workshop on ‘Using the Leica Rangefinder”  in which he will demonstrate\, among other things: \n  \n\n Rangefinder vs. SLR\n Why Leica Lenses are so special\n Basic Street Photography Techniques\n\n  \nNo other camera system invented yet can allow a more spontaneous approach to photography that lends itself to street photography\, humanistic reportage\, and available light image making. The design of the Rangefinder has inherent abilities that offer distinct advantages. \n
URL:https://www.natcam.com/event/leica-street-photography-golden-valley/
LOCATION:9300 Olson Memorial Highway\, Golden Valley\, MN\, 55427\, United States
GEO:44.9842769;-93.3982752
X-APPLE-STRUCTURED-LOCATION;VALUE=URI;X-ADDRESS=9300 Olson Memorial Highway Golden Valley MN 55427 United States;X-APPLE-RADIUS=500;X-TITLE=9300 Olson Memorial Highway:geo:-93.3982752,44.9842769
CATEGORIES:Special Events,Specialty Classes
END:VEVENT
END:VCALENDAR