BEGIN:VCALENDAR
VERSION:2.0
PRODID:-//National Camera Exchange - ECPv4.6.11.1//NONSGML v1.0//EN
CALSCALE:GREGORIAN
METHOD:PUBLISH
X-WR-CALNAME:National Camera Exchange
X-ORIGINAL-URL:https://www.natcam.com
X-WR-CALDESC:Events for National Camera Exchange
BEGIN:VEVENT
DTSTART;TZID=America/Chicago:20240326T180000
DTEND;TZID=America/Chicago:20240326T190000
DTSTAMP:20260426T040734
CREATED:20240228T202116Z
LAST-MODIFIED:20240305T194843Z
UID:479627-1711476000-1711479600@www.natcam.com
SUMMARY:Macro Photography Tips with OM SYSTEM // Online Seminar • March 26\, 2024
DESCRIPTION:Macro Photography Tips with OM SYSTEM\nOnline Seminar // March 26\, 2024\n  \nJoin OM SYSTEM Rep Mike Amico\, virtually\, as he talks Macro Photography! Mike will go over equipment and accessories that can help improve your Macro images. Mike will also give some tips and tricks for Macro shooting. Though this is an OM SYSTEM sponsored class\, all customers and brands are welcome and encouraged to join in on this virtual class. The seminar portion of this event will roughly cover the first hour\, and we will wrap up with a Q&A portion at the end—be sure to bring your questions! \n• • • • • \nRegistration for this class is limited\, register now before it fills up! \nRegister Here > https://events.eao.omsystem.com/macro-tips-with-omsystem \n• • • • • \nBE PREPARED \nOnline Platform: Zoom  \nThe virtual meeting platform for this online seminar is Zoom. Once you have signed-up for a session\, you will receive a e-mail confirmation from OM SYSTEM\, which will have a link to the zoom session your attending in it. In advance of attending a session we recommend all participants visit www.zoom.us to sign up for an account or check their existing account is still active. All Zoom sessions are secured with a password. We recommend joining up to 10 minutes early\, to ensure that you have time to troubleshoot your connection if necessary. You will be placed in a waiting room until the host is ready to begin the event.  \nPLEASE NOTE \n•  This class will not be recorded \n• Customers with any brand camera may attend this workshop; however\, be aware Mike will be discussing modes and features specific to Olympus cameras. \n  \nIf you have any questions about this or any other event\, please email us at classes@natcam.com. We will do our best to get back to you within 1-2 business days. \n
URL:https://www.natcam.com/event/macro-photography-tips-om-system-online-seminar-%e2%80%a2-march-26-2024/
CATEGORIES:Specialty Classes
ATTACH;FMTTYPE=image/jpeg:https://www.natcam.com/wp-content/uploads/2024/02/oms-macro-03-26_event-banner.jpg
END:VEVENT
END:VCALENDAR