BEGIN:VCALENDAR
VERSION:2.0
PRODID:-//National Camera Exchange - ECPv4.6.11.1//NONSGML v1.0//EN
CALSCALE:GREGORIAN
METHOD:PUBLISH
X-WR-CALNAME:National Camera Exchange
X-ORIGINAL-URL:https://www.natcam.com
X-WR-CALDESC:Events for National Camera Exchange
BEGIN:VEVENT
DTSTART;TZID=America/Chicago:20160910T130000
DTEND;TZID=America/Chicago:20160910T150000
DTSTAMP:20260419T132614
CREATED:20160822T164523Z
LAST-MODIFIED:20160822T203506Z
UID:13589-1473512400-1473519600@www.natcam.com
SUMMARY:Nature Travel Photography w/ Carrol Henderson @ Burnsville
DESCRIPTION:Carrol Henderson is a wildlife biologist\, author\, international tour guide\, and photographer who will cover how to plan for a successful nature travel photography experience based on leading 58 successful international birding and nature tours over the past 30 years: selecting your destination\, pre-trip planning\, health\, safety\, and insurance considerations\,\ntravel photography equipment\, trip planning checklists\, ethics and behavior for successful group chemistry\, “jungle safety tips\,” daily preparation for photo outings\, and field tech tips for taking memorable photos. \n
URL:https://www.natcam.com/event/nature-travel-photography-w-carrol-henderson-burnsville/
CATEGORIES:Specialty Classes
ATTACH;FMTTYPE=image/jpeg:https://www.natcam.com/wp-content/uploads/2016/08/CH.jpg
END:VEVENT
END:VCALENDAR