BEGIN:VCALENDAR
VERSION:2.0
PRODID:-//National Camera Exchange - ECPv4.6.11.1//NONSGML v1.0//EN
CALSCALE:GREGORIAN
METHOD:PUBLISH
X-WR-CALNAME:National Camera Exchange
X-ORIGINAL-URL:https://www.natcam.com
X-WR-CALDESC:Events for National Camera Exchange
BEGIN:VEVENT
DTSTART;TZID=America/Chicago:20180609T170000
DTEND;TZID=America/Chicago:20180609T180000
DTSTAMP:20260420T013323
CREATED:20180604T210435Z
LAST-MODIFIED:20180604T210435Z
UID:144020-1528563600-1528567200@www.natcam.com
SUMMARY:Olympus: Live Composite Photography @ Roseville
DESCRIPTION:Live Composite Photography\nSeminar\nOlympus cameras boast an incredible feature\, Live Composite mode.   Join Olympus’s Sandra Ramos to explore the options and learn the tips to use this powerful in-camera highlight. Whether you’re shooting star trails or waterfalls\, Live Composite can take your long exposures to a new level. \n
URL:https://www.natcam.com/event/olympus-live-composite-photography-roseville/
LOCATION:2401 Fairview Avenue N #10\, Roseville\, MN\, 55113\, United States
GEO:45.0136491;-93.1791898
X-APPLE-STRUCTURED-LOCATION;VALUE=URI;X-ADDRESS=2401 Fairview Avenue N #10 Roseville MN 55113 United States;X-APPLE-RADIUS=500;X-TITLE=2401 Fairview Avenue N #10:geo:-93.1791898,45.0136491
CATEGORIES:Special Events,Specialty Classes
ATTACH;FMTTYPE=image/png:https://www.natcam.com/wp-content/uploads/2018/06/LiveComposite-webheader.png
END:VEVENT
END:VCALENDAR