BEGIN:VCALENDAR
VERSION:2.0
PRODID:-//National Camera Exchange - ECPv4.6.11.1//NONSGML v1.0//EN
CALSCALE:GREGORIAN
METHOD:PUBLISH
X-WR-CALNAME:National Camera Exchange
X-ORIGINAL-URL:https://www.natcam.com
X-WR-CALDESC:Events for National Camera Exchange
BEGIN:VEVENT
DTSTART;TZID=America/Chicago:20180608T170000
DTEND;TZID=America/Chicago:20180608T180000
DTSTAMP:20260419T234532
CREATED:20180604T203530Z
LAST-MODIFIED:20180604T213434Z
UID:143995-1528477200-1528480800@www.natcam.com
SUMMARY:Olympus: Travel the National Parks! @ Golden Valley
DESCRIPTION:Travel the National Parks!\n  \nDive into the stories and lands that shaped our country with tips and ideas of how to get the most of your travel photography. Led by Olympus’s Sandra Ramos\, avid road tripper and photographer behind the popular National Park Patch Lady\, we’ll explore the US and photography throughout our national parks.\n\nhttps://www.nationalparkpatchlady.com/\n\n
URL:https://www.natcam.com/event/olympus-travel-national-parks/
LOCATION:9300 Olson Memorial Highway\, Golden Valley\, MN\, 55427\, United States
GEO:44.9842769;-93.3982752
X-APPLE-STRUCTURED-LOCATION;VALUE=URI;X-ADDRESS=9300 Olson Memorial Highway Golden Valley MN 55427 United States;X-APPLE-RADIUS=500;X-TITLE=9300 Olson Memorial Highway:geo:-93.3982752,44.9842769
CATEGORIES:Special Events,Specialty Classes
ATTACH;FMTTYPE=image/png:https://www.natcam.com/wp-content/uploads/2018/06/Travel-NationalParks-webheader.png
END:VEVENT
END:VCALENDAR