BEGIN:VCALENDAR
VERSION:2.0
PRODID:-//National Camera Exchange - ECPv4.6.11.1//NONSGML v1.0//EN
CALSCALE:GREGORIAN
METHOD:PUBLISH
X-WR-CALNAME:National Camera Exchange
X-ORIGINAL-URL:https://www.natcam.com
X-WR-CALDESC:Events for National Camera Exchange
BEGIN:VEVENT
DTSTART;TZID=America/Chicago:20170708T123000
DTEND;TZID=America/Chicago:20170708T133000
DTSTAMP:20260419T181449
CREATED:20170701T012814Z
LAST-MODIFIED:20170701T161201Z
UID:78205-1499517000-1499520600@www.natcam.com
SUMMARY:Panasonic: Not your Dad's Home Videos @ Golden Valley
DESCRIPTION:With today’s camera technology home videos don’t have to be boring anymore!  Learn how Associate Lumix Luminary & Host of the Wedding Film Academy Podcast\, Jordan Bunch\, creates home videos of his own family that are so compelling they get thousands of views on social media. In this course you will learn to capture the little moments in the life of your family in a stunningly cinematic way that will make sure your whole family wants to watch them again and again. \n
URL:https://www.natcam.com/event/panasonic-not-dads-home-videos-78/
LOCATION:9300 Olson Memorial Highway\, Golden Valley\, MN\, 55427\, United States
GEO:44.9842769;-93.3982752
X-APPLE-STRUCTURED-LOCATION;VALUE=URI;X-ADDRESS=9300 Olson Memorial Highway Golden Valley MN 55427 United States;X-APPLE-RADIUS=500;X-TITLE=9300 Olson Memorial Highway:geo:-93.3982752,44.9842769
CATEGORIES:Special Events,Specialty Classes
END:VEVENT
END:VCALENDAR