BEGIN:VCALENDAR
VERSION:2.0
PRODID:-//National Camera Exchange - ECPv4.6.11.1//NONSGML v1.0//EN
CALSCALE:GREGORIAN
METHOD:PUBLISH
X-WR-CALNAME:National Camera Exchange
X-ORIGINAL-URL:https://www.natcam.com
X-WR-CALDESC:Events for National Camera Exchange
BEGIN:VEVENT
DTSTART;TZID=America/Chicago:20190627T183000
DTEND;TZID=America/Chicago:20190627T193000
DTSTAMP:20260420T010251
CREATED:20170601T204349Z
LAST-MODIFIED:20190606T202934Z
UID:204407-1561660200-1561663800@www.natcam.com
SUMMARY:Photographing Fireworks @ Edina
DESCRIPTION:Join us for a one hour seminar on how to effectively photograph fireworks.  During this seminar\, you’ll learn how to the best camera gear and accessories to bring along as well as how to set your camera settings to capture spectacular firework shots. \nTopics include: \nPreparing for the event \nFinding the best location \nCamera Gear and Accessories \nDifferent techniques and approaches \nEquipment settings \n  \n
URL:https://www.natcam.com/event/photographing-fireworks-burnsville-3-2-2/
CATEGORIES:Specialty Classes
ATTACH;FMTTYPE=image/png:https://www.natcam.com/wp-content/uploads/2017/06/Fireworks_Website-header-1.png
END:VEVENT
END:VCALENDAR