BEGIN:VCALENDAR
VERSION:2.0
PRODID:-//National Camera Exchange - ECPv4.6.11.1//NONSGML v1.0//EN
CALSCALE:GREGORIAN
METHOD:PUBLISH
X-WR-CALNAME:National Camera Exchange
X-ORIGINAL-URL:https://www.natcam.com
X-WR-CALDESC:Events for National Camera Exchange
BEGIN:VEVENT
DTSTART;TZID=America/Chicago:20170624T103000
DTEND;TZID=America/Chicago:20170624T113000
DTSTAMP:20260419T181436
CREATED:20170601T204349Z
LAST-MODIFIED:20170601T210702Z
UID:70950-1498300200-1498303800@www.natcam.com
SUMMARY:Photographing Fireworks @ Roseville
DESCRIPTION:Join us for a one hour seminar on how to effectively photograph fireworks.  During this seminar\, you’ll learn how to the best camera gear and accessories to bring along as well as how to set your camera settings to capture spectacular firework shots. \nTopics include: \nPreparing for the event \nFinding the best location \nCamera Gear and Accessories \nDifferent techniques and approaches \nEquipment settings \n
URL:https://www.natcam.com/event/photographing-fireworks-burnsville-4/
LOCATION:2401 Fairview Avenue N #10\, Roseville\, MN\, 55113\, United States
GEO:45.0136491;-93.1791898
X-APPLE-STRUCTURED-LOCATION;VALUE=URI;X-ADDRESS=2401 Fairview Avenue N #10 Roseville MN 55113 United States;X-APPLE-RADIUS=500;X-TITLE=2401 Fairview Avenue N #10:geo:-93.1791898,45.0136491
CATEGORIES:Specialty Classes
ATTACH;FMTTYPE=image/png:https://www.natcam.com/wp-content/uploads/2017/06/Fireworks_Website-header-1.png
END:VEVENT
END:VCALENDAR