BEGIN:VCALENDAR
VERSION:2.0
PRODID:-//National Camera Exchange - ECPv4.6.11.1//NONSGML v1.0//EN
CALSCALE:GREGORIAN
METHOD:PUBLISH
X-WR-CALNAME:National Camera Exchange
X-ORIGINAL-URL:https://www.natcam.com
X-WR-CALDESC:Events for National Camera Exchange
BEGIN:VEVENT
DTSTART;TZID=America/Chicago:20190809T183000
DTEND;TZID=America/Chicago:20190809T200000
DTSTAMP:20260419T231242
CREATED:20190730T204504Z
LAST-MODIFIED:20190806T164140Z
UID:217592-1565375400-1565380800@www.natcam.com
SUMMARY:Portrait Light Painting with Olympus
DESCRIPTION:Portrait Light Painting with Olympus\nYou’ve shot portraits and you’ve light painted\, but have you tried combining them? Matt Walsh from Olympus will show you how to take portraits in a fun new way\, made easy on Olympus cameras! Don’t have Olympus? No problem – the basic idea will work on your camera with a little extra work. Join us for a fun session\, and leave with a new technique in your tool bag! \nThis is a hands on workshop!  Bring your camera gear and experiment with this light painting technique! \n
URL:https://www.natcam.com/event/portrait-light-painting-olympus/
LOCATION:9300 Olson Memorial Highway\, Golden Valley\, MN\, 55427\, United States
GEO:44.9842769;-93.3982752
X-APPLE-STRUCTURED-LOCATION;VALUE=URI;X-ADDRESS=9300 Olson Memorial Highway Golden Valley MN 55427 United States;X-APPLE-RADIUS=500;X-TITLE=9300 Olson Memorial Highway:geo:-93.3982752,44.9842769
CATEGORIES:Special Events,Specialty Classes
ATTACH;FMTTYPE=image/jpeg:https://www.natcam.com/wp-content/uploads/2019/07/light-painting-banner.jpg
END:VEVENT
END:VCALENDAR