BEGIN:VCALENDAR
VERSION:2.0
PRODID:-//National Camera Exchange - ECPv4.6.11.1//NONSGML v1.0//EN
CALSCALE:GREGORIAN
METHOD:PUBLISH
X-WR-CALNAME:National Camera Exchange
X-ORIGINAL-URL:https://www.natcam.com
X-WR-CALDESC:Events for National Camera Exchange
BEGIN:VEVENT
DTSTART;TZID=America/Chicago:20180829T180000
DTEND;TZID=America/Chicago:20180829T200000
DTSTAMP:20260422T202155
CREATED:20180823T082400Z
LAST-MODIFIED:20180823T123153Z
UID:154942-1535565600-1535572800@www.natcam.com
SUMMARY:Nikon Z Series Launch Party
DESCRIPTION:Be the first to see and handle Nikon’s new Z series mirrorless cameras and lenses! Join us and Nikon Technical Representatives from 6-8pm on August 29th for an exciting evening centered around the new Nikon Z6 and Z7 mirrorless cameras & lenses! This free open house may be the only opportunity to touch and handle this new flagship camera prior to its ship date late September. There will be a brief presentation on the groundbreaking new technologies built into this game changing series\, followed by hands on opportunity for al! Registration is required for this free event.\n\nCheck out the Z series here: https://www.nikonproducts.com/us/z-series/?r=national\n\n\nSpace for this event is very limited\, so RSVP soon!\n\nHors d’oeuvres and beverages will be available for guests while getting a first-hand demonstration on the powerful new Nikon mirrorless technology. (Wine and beer will be available for guests 21+ with photo id)\n\n\n\n\n
URL:https://www.natcam.com/event/pursuit-light-nikon-z-mirrorless-system-launch-party/
LOCATION:9300 Olson Memorial Highway\, Golden Valley\, MN\, 55427\, United States
GEO:44.9842769;-93.3982752
X-APPLE-STRUCTURED-LOCATION;VALUE=URI;X-ADDRESS=9300 Olson Memorial Highway Golden Valley MN 55427 United States;X-APPLE-RADIUS=500;X-TITLE=9300 Olson Memorial Highway:geo:-93.3982752,44.9842769
CATEGORIES:Special Events,Specialty Classes
ATTACH;FMTTYPE=image/jpeg:https://www.natcam.com/wp-content/uploads/2018/08/Zseries_event-banner.jpg
END:VEVENT
END:VCALENDAR