BEGIN:VCALENDAR
VERSION:2.0
PRODID:-//National Camera Exchange - ECPv4.6.11.1//NONSGML v1.0//EN
CALSCALE:GREGORIAN
METHOD:PUBLISH
X-WR-CALNAME:National Camera Exchange
X-ORIGINAL-URL:https://www.natcam.com
X-WR-CALDESC:Events for National Camera Exchange
BEGIN:VEVENT
DTSTART;TZID=America/Chicago:20231209T100000
DTEND;TZID=America/Chicago:20231209T160000
DTSTAMP:20260422T004234
CREATED:20231110T151820Z
LAST-MODIFIED:20231205T193433Z
UID:461151-1702116000-1702137600@www.natcam.com
SUMMARY:Sony // In-Store Demo • December 9\, 2023
DESCRIPTION:SONY\nIn-Store Demo • December 9th\n  \nJoin Sony Sr. Digital Imaging Specialist Ashley Ondricek for an in-store demo on Saturday\, December 9th from 10am-4pm. Stop in between 10am-4pm and see the latest Sony mirrorless cameras and lenses on display\, including the new Sony A9 III Full-Frame mirrorless camera that features a global shutter system\, blackout-free\, 120 fps continuous shooting with full AF/AE tracking. Bring your questions\, camera bodies\, and lenses to try out some cutting-edge gear. \nWhether you’re a professional photographer or just starting out\, there’s something for everyone. Don’t miss this exciting opportunity to meet experts in person\, explore new gear\, and get your questions answered. We can’t wait to see you here! \nLooking to upgrade your gear? Bring in your cameras\, lenses and sports optics to get a quote from our knowledgeable sales staff on the value of trading it in towards a new purchase. Plus\, Get Paid to Trade with additional savings from Sony. \n••• \nIf you have any questions about this or any other event\, please email us at classes@natcam.com. We will do our best to get back to you within 1-2 business days. \n
URL:https://www.natcam.com/event/sony-store-demo-%e2%80%a2-december-9-2023/
LOCATION:9300 Olson Memorial Highway\, Golden Valley\, MN\, 55427\, United States
GEO:44.9842769;-93.3982752
X-APPLE-STRUCTURED-LOCATION;VALUE=URI;X-ADDRESS=9300 Olson Memorial Highway Golden Valley MN 55427 United States;X-APPLE-RADIUS=500;X-TITLE=9300 Olson Memorial Highway:geo:-93.3982752,44.9842769
CATEGORIES:Special Events
ATTACH;FMTTYPE=image/jpeg:https://www.natcam.com/wp-content/uploads/2023/11/sony-demo-12-09_event-banner.jpg
END:VEVENT
END:VCALENDAR