BEGIN:VCALENDAR
VERSION:2.0
PRODID:-//National Camera Exchange - ECPv4.6.11.1//NONSGML v1.0//EN
CALSCALE:GREGORIAN
METHOD:PUBLISH
X-WR-CALNAME:National Camera Exchange
X-ORIGINAL-URL:https://www.natcam.com
X-WR-CALDESC:Events for National Camera Exchange
BEGIN:VEVENT
DTSTART;TZID=America/Chicago:20180609T110000
DTEND;TZID=America/Chicago:20180609T120000
DTSTAMP:20260419T234549
CREATED:20180412T144916Z
LAST-MODIFIED:20180531T174417Z
UID:143053-1528542000-1528545600@www.natcam.com
SUMMARY:Sports Photography with Tamron @ Golden Valley
DESCRIPTION:Kids Sports Photography with Tamron\nSeminar\n\nSaturday June 9that 11am \n Join a Tamron Tech Expert as they teach tips on how to capture action as it happens. Indoors or outdoors\, we’ll discuss the importance of light when photographing any sport. Discover how anticipation\, panning focus\, and multiple burst modes will decrease the number of missed shots and blurry images. \n\nThis class will give you the tools to approach photographing your kid’s sports the correct way. In return\, you’ll capture more consistent\, stunning shots. \n  \n
URL:https://www.natcam.com/event/sports-photography-tamron-2/
LOCATION:9300 Olson Memorial Highway\, Golden Valley\, MN\, 55427\, United States
GEO:44.9842769;-93.3982752
X-APPLE-STRUCTURED-LOCATION;VALUE=URI;X-ADDRESS=9300 Olson Memorial Highway Golden Valley MN 55427 United States;X-APPLE-RADIUS=500;X-TITLE=9300 Olson Memorial Highway:geo:-93.3982752,44.9842769
CATEGORIES:Special Events,Specialty Classes
ATTACH;FMTTYPE=image/png:https://www.natcam.com/wp-content/uploads/2018/04/Kids-Sports_webheader.png
END:VEVENT
END:VCALENDAR