BEGIN:VCALENDAR
VERSION:2.0
PRODID:-//National Camera Exchange - ECPv4.6.11.1//NONSGML v1.0//EN
CALSCALE:GREGORIAN
METHOD:PUBLISH
X-WR-CALNAME:National Camera Exchange
X-ORIGINAL-URL:https://www.natcam.com
X-WR-CALDESC:Events for National Camera Exchange
BEGIN:VEVENT
DTSTART;TZID=America/Chicago:20180511T183000
DTEND;TZID=America/Chicago:20180511T200000
DTSTAMP:20260420T052449
CREATED:20180412T144916Z
LAST-MODIFIED:20180419T134734Z
UID:134317-1526063400-1526068800@www.natcam.com
SUMMARY:Sports Photography with Tamron @ Burnsville
DESCRIPTION:Sports Photography with Tamron\nSeminar\nJoin Tamron’s Mike Pazandak to learn tips on how to capture action as it happens.  Indoors or outdoors\, we’ll discuss the importance of light when photographing any sport.  Discover how anticipation\, panning\, focus\, and multiple burst modes will decrease the number of missed shots and blurry images.  This class will give you the tools to approach photographing sports the correct way.  In return\, you’ll capture more consistent and stunning shots. \nMike Pazandak has had a passion for photography for over 25 years.  He has experience in architectural\, weking\, street\, documentary\,sports\, and landscape photography. \n
URL:https://www.natcam.com/event/sports-photography-tamron/
CATEGORIES:Special Events,Specialty Classes
ATTACH;FMTTYPE=image/png:https://www.natcam.com/wp-content/uploads/2018/04/Sports_webheader.png
END:VEVENT
END:VCALENDAR