BEGIN:VCALENDAR
VERSION:2.0
PRODID:-//National Camera Exchange - ECPv4.6.11.1//NONSGML v1.0//EN
CALSCALE:GREGORIAN
METHOD:PUBLISH
X-WR-CALNAME:National Camera Exchange
X-ORIGINAL-URL:https://www.natcam.com
X-WR-CALDESC:Events for National Camera Exchange
BEGIN:VEVENT
DTSTART;TZID=America/Chicago:20231014T070000
DTEND;TZID=America/Chicago:20231014T083000
DTSTAMP:20260421T143650
CREATED:20230928T173141Z
LAST-MODIFIED:20230928T234811Z
UID:452178-1697266800-1697272200@www.natcam.com
SUMMARY:Sunrise Photography with Tamron // Photo Meetup • October 14\, 2023
DESCRIPTION:Sunrise Photography with Tamron\nPhoto Meetup | Mississippi Gateway Regional Park | October 14\, 2023\n\n  \nJoin Mike Pazandak of Tamron for a sunrise photo meet-up at the Mississippi Gateway Regional Park on Saturday\, October 14th at 7am. This is a free event aimed at photographers of any experience level with interchangeable lens cameras. During this event\, our team of seasoned photographers will help you with composition\, exposure\, white balance and other camera settings to make the most of the colors. Learn how to create dynamic silhouettes against the vibrant hues of the rising sun and master the art of capturing the perfect balance between foreground elements and the awe-inspiring sky. \nAfter our initial meetup\, you’ll be free to explore the area on your own or stick around the experts for more guided\, personalized advice. Whatever you need\, we’re here to help!  This is a great opportunity to enhance your photography skills and capture captivating sunrise images along the Mississippi River. We look forward to seeing you there! \n  \nEVENT SCHEDULE\n• 7-7:15am // Check-in + Tamron Loaner Gear  \n• 7:15-8:30am // Sunrise Photography (Sunrise at 7:27 am) \n• 8:30am // Wrap-up + Return Gear \n••••••••••••••••••••• \nBE PREPARED: Pack your interchangeable lens camera\, lenses\, and charge up your batteries before the event! We also recommend bringing additional batteries and memory cards just in case. As this event will be held outdoors rain or shine\, we recommend that you dress comfortably and accordingly for the weather.  \nWhen you arrive\, enter the parking lot at the main entrance and we will gather as a group near the visitor’s center to check-in. A select amount of loaner lenses will be provided by Tamron at this time—if you intend to borrow gear during this event\, please be sure to arrive early as lenses are limited and will be available on a first-come\, first-served basis. \nPlease note: You must have a valid driver’s license to check out Tamron loaner lenses. \nRegistration: This event is free and does not require registration \n••••••••••••••••••••• \nLOCATION:  \nMississippi Gateway Regional Park \n10360 West River Road  \nBrooklyn Park\, MN 55444 \nhttps://www.threeriversparks.org/location/mississippi-gateway-regional-park \n  \nIf you have any questions about this or any other event\, please email us at classes@natcam.com. We will do our best to get back to you within 1-2 business days. \nCheck out our full calendar here \n\n
URL:https://www.natcam.com/event/sunrise-photography-tamron-photo-meetup-%e2%80%a2-october-14-2023/
LOCATION:10360 West River Road\, Brooklyn Park\, 55444\, United States
CATEGORIES:Special Events
END:VEVENT
END:VCALENDAR